BEGIN:VCALENDAR
VERSION:2.0
PRODID:-//hacksw/handcal//NONSGML v1.0//EN
CALSCALE:GREGORIAN
METHOD:PUBLISH
BEGIN:VTIMEZONE
TZID:Europe/Vienna
BEGIN:DAYLIGHT
TZOFFSETFROM:+0100
RRULE:FREQ=YEARLY;BYMONTH=3;BYDAY=-1SU
DTSTART:19810329T020000
TZNAME:MESZ
TZOFFSETTO:+0200
END:DAYLIGHT
BEGIN:STANDARD
TZOFFSETFROM:+0200
RRULE:FREQ=YEARLY;BYMONTH=10;BYDAY=-1SU
DTSTART:19961027T030000
TZNAME:MEZ
TZOFFSETTO:+0100
END:STANDARD
END:VTIMEZONE
BEGIN:VEVENT
UID:ce23030b-40f9-4949-a8ec-888816131f61@welthandelsplatz.at

SEQUENCE:0
STATUS:CONFIRMED
TRANSP:OPAQUE
CREATED:20260419T141755

DTSTAMP:20260419T141755

DTSTART;TZID=Europe/Vienna:20240219T141500

DTEND;TZID=Europe/Vienna:20240219T174500

SUMMARY:WPR (I) Winteruni 2024

LOCATION:TC 2.01

URL;VALUE=URI:https://karrierekit.welthandelsplatz.at/oeh-kurse/wpr-i-winteruni-2024

END:VEVENT
BEGIN:VEVENT
UID:70be5671-026a-4aff-83fd-0c051d719883@welthandelsplatz.at

SEQUENCE:0
STATUS:CONFIRMED
TRANSP:OPAQUE
CREATED:20260419T141755

DTSTAMP:20260419T141755

DTSTART;TZID=Europe/Vienna:20240222T141500

DTEND;TZID=Europe/Vienna:20240222T174500

SUMMARY:WPR (I) Winteruni 2024

LOCATION:TC 2.01

URL;VALUE=URI:https://karrierekit.welthandelsplatz.at/oeh-kurse/wpr-i-winteruni-2024

END:VEVENT
BEGIN:VEVENT
UID:ba60cbde-c0ae-43f9-b13a-26ee7db26ce0@welthandelsplatz.at

SEQUENCE:0
STATUS:CONFIRMED
TRANSP:OPAQUE
CREATED:20260419T141755

DTSTAMP:20260419T141755

DTSTART;TZID=Europe/Vienna:20240226T141500

DTEND;TZID=Europe/Vienna:20240226T174500

SUMMARY:WPR (I) Winteruni 2024

LOCATION:TC 2.01

URL;VALUE=URI:https://karrierekit.welthandelsplatz.at/oeh-kurse/wpr-i-winteruni-2024

END:VEVENT
BEGIN:VEVENT
UID:8bc9cab2-d320-4ca1-a30f-38f798542641@welthandelsplatz.at

SEQUENCE:0
STATUS:CONFIRMED
TRANSP:OPAQUE
CREATED:20260419T141755

DTSTAMP:20260419T141755

DTSTART;TZID=Europe/Vienna:20240229T141500

DTEND;TZID=Europe/Vienna:20240229T174500

SUMMARY:WPR (I) Winteruni 2024

LOCATION:TC.3.03

URL;VALUE=URI:https://karrierekit.welthandelsplatz.at/oeh-kurse/wpr-i-winteruni-2024

END:VEVENT
END:VCALENDAR