BEGIN:VCALENDAR
VERSION:2.0
PRODID:-//hacksw/handcal//NONSGML v1.0//EN
CALSCALE:GREGORIAN
METHOD:PUBLISH
BEGIN:VTIMEZONE
TZID:Europe/Vienna
BEGIN:DAYLIGHT
TZOFFSETFROM:+0100
RRULE:FREQ=YEARLY;BYMONTH=3;BYDAY=-1SU
DTSTART:19810329T020000
TZNAME:MESZ
TZOFFSETTO:+0200
END:DAYLIGHT
BEGIN:STANDARD
TZOFFSETFROM:+0200
RRULE:FREQ=YEARLY;BYMONTH=10;BYDAY=-1SU
DTSTART:19961027T030000
TZNAME:MEZ
TZOFFSETTO:+0100
END:STANDARD
END:VTIMEZONE
BEGIN:VEVENT
UID:8d075bea-77df-4343-8e6d-3758309d8a69@welthandelsplatz.at

SEQUENCE:0
STATUS:CONFIRMED
TRANSP:OPAQUE
CREATED:20260419T173944

DTSTAMP:20260419T173944

DTSTART;TZID=Europe/Vienna:20240604T090000

DTEND;TZID=Europe/Vienna:20240604T130000

SUMMARY:Wirtschaftsprivatrecht (I) Juni

LOCATION:TC.2.02 Hörsaal 

URL;VALUE=URI:https://karrierekit.welthandelsplatz.at/oeh-kurse/wirtschaftsprivatrecht-i-juni

END:VEVENT
BEGIN:VEVENT
UID:3c0379c1-2660-42eb-96a9-2baf2f738f80@welthandelsplatz.at

SEQUENCE:0
STATUS:CONFIRMED
TRANSP:OPAQUE
CREATED:20260419T173944

DTSTAMP:20260419T173944

DTSTART;TZID=Europe/Vienna:20240607T090000

DTEND;TZID=Europe/Vienna:20240607T130000

SUMMARY:Wirtschaftsprivatrecht (I) Juni

LOCATION:TC.2.02 Hörsaal 

URL;VALUE=URI:https://karrierekit.welthandelsplatz.at/oeh-kurse/wirtschaftsprivatrecht-i-juni

END:VEVENT
BEGIN:VEVENT
UID:463d4398-48d4-4acd-b1a6-f43eaa9757e9@welthandelsplatz.at

SEQUENCE:0
STATUS:CONFIRMED
TRANSP:OPAQUE
CREATED:20260419T173944

DTSTAMP:20260419T173944

DTSTART;TZID=Europe/Vienna:20240614T090000

DTEND;TZID=Europe/Vienna:20240614T130000

SUMMARY:Wirtschaftsprivatrecht (I) Juni

LOCATION:TC.2.02 Hörsaal 

URL;VALUE=URI:https://karrierekit.welthandelsplatz.at/oeh-kurse/wirtschaftsprivatrecht-i-juni

END:VEVENT
BEGIN:VEVENT
UID:3e8dea96-cc99-4a30-a1d6-cf253bebf2e1@welthandelsplatz.at

SEQUENCE:0
STATUS:CONFIRMED
TRANSP:OPAQUE
CREATED:20260419T173944

DTSTAMP:20260419T173944

DTSTART;TZID=Europe/Vienna:20240621T090000

DTEND;TZID=Europe/Vienna:20240621T130000

SUMMARY:Wirtschaftsprivatrecht (I) Juni

LOCATION:TC.2.02 Hörsaal 

URL;VALUE=URI:https://karrierekit.welthandelsplatz.at/oeh-kurse/wirtschaftsprivatrecht-i-juni

END:VEVENT
END:VCALENDAR