BEGIN:VCALENDAR
VERSION:2.0
PRODID:-//hacksw/handcal//NONSGML v1.0//EN
CALSCALE:GREGORIAN
METHOD:PUBLISH
BEGIN:VTIMEZONE
TZID:Europe/Vienna
BEGIN:DAYLIGHT
TZOFFSETFROM:+0100
RRULE:FREQ=YEARLY;BYMONTH=3;BYDAY=-1SU
DTSTART:19810329T020000
TZNAME:MESZ
TZOFFSETTO:+0200
END:DAYLIGHT
BEGIN:STANDARD
TZOFFSETFROM:+0200
RRULE:FREQ=YEARLY;BYMONTH=10;BYDAY=-1SU
DTSTART:19961027T030000
TZNAME:MEZ
TZOFFSETTO:+0100
END:STANDARD
END:VTIMEZONE
BEGIN:VEVENT
UID:be9fdfee-c673-48f8-baf3-c91a577ae6ca@welthandelsplatz.at

SEQUENCE:0
STATUS:CONFIRMED
TRANSP:OPAQUE
CREATED:20260419T141946

DTSTAMP:20260419T141946

DTSTART;TZID=Europe/Vienna:20240417T133000

DTEND;TZID=Europe/Vienna:20240417T170000

SUMMARY:Wirtschaftsprivatrecht (I) April/ Mai

LOCATION:TC.0.04 Hörsaal 

URL;VALUE=URI:https://karrierekit.welthandelsplatz.at/oeh-kurse/wirtschaftsprivatrecht-i-april-mai

END:VEVENT
BEGIN:VEVENT
UID:4a734847-cbd9-4d15-afd8-d32ea9b3bcd0@welthandelsplatz.at

SEQUENCE:0
STATUS:CONFIRMED
TRANSP:OPAQUE
CREATED:20260419T141946

DTSTAMP:20260419T141946

DTSTART;TZID=Europe/Vienna:20240424T140000

DTEND;TZID=Europe/Vienna:20240424T173000

SUMMARY:Wirtschaftsprivatrecht (I) April/ Mai

LOCATION:TC.0.04 Hörsaal 

URL;VALUE=URI:https://karrierekit.welthandelsplatz.at/oeh-kurse/wirtschaftsprivatrecht-i-april-mai

END:VEVENT
BEGIN:VEVENT
UID:a202d192-e1c0-472c-ba3d-00c6f7910034@welthandelsplatz.at

SEQUENCE:0
STATUS:CONFIRMED
TRANSP:OPAQUE
CREATED:20260419T141946

DTSTAMP:20260419T141946

DTSTART;TZID=Europe/Vienna:20240429T133000

DTEND;TZID=Europe/Vienna:20240429T170000

SUMMARY:Wirtschaftsprivatrecht (I) April/ Mai

LOCATION:TC.0.04 Hörsaal 

URL;VALUE=URI:https://karrierekit.welthandelsplatz.at/oeh-kurse/wirtschaftsprivatrecht-i-april-mai

END:VEVENT
BEGIN:VEVENT
UID:f2f59edd-819e-413c-89a4-ef7d664c7992@welthandelsplatz.at

SEQUENCE:0
STATUS:CONFIRMED
TRANSP:OPAQUE
CREATED:20260419T141946

DTSTAMP:20260419T141946

DTSTART;TZID=Europe/Vienna:20240502T133000

DTEND;TZID=Europe/Vienna:20240502T170000

SUMMARY:Wirtschaftsprivatrecht (I) April/ Mai

LOCATION:TC.0.04 Hörsaal 

URL;VALUE=URI:https://karrierekit.welthandelsplatz.at/oeh-kurse/wirtschaftsprivatrecht-i-april-mai

END:VEVENT
END:VCALENDAR