BEGIN:VCALENDAR
VERSION:2.0
PRODID:-//hacksw/handcal//NONSGML v1.0//EN
CALSCALE:GREGORIAN
METHOD:PUBLISH
BEGIN:VTIMEZONE
TZID:Europe/Vienna
BEGIN:DAYLIGHT
TZOFFSETFROM:+0100
RRULE:FREQ=YEARLY;BYMONTH=3;BYDAY=-1SU
DTSTART:19810329T020000
TZNAME:MESZ
TZOFFSETTO:+0200
END:DAYLIGHT
BEGIN:STANDARD
TZOFFSETFROM:+0200
RRULE:FREQ=YEARLY;BYMONTH=10;BYDAY=-1SU
DTSTART:19961027T030000
TZNAME:MEZ
TZOFFSETTO:+0100
END:STANDARD
END:VTIMEZONE
BEGIN:VEVENT
UID:fa874f40-965e-49e3-bc5f-cc32b4e79bc0@welthandelsplatz.at

SEQUENCE:0
STATUS:CONFIRMED
TRANSP:OPAQUE
CREATED:20260419T141237

DTSTAMP:20260419T141237

DTSTART;TZID=Europe/Vienna:20231010T180000

DTEND;TZID=Europe/Vienna:20231010T213000

SUMMARY:Volkswirtschaftslehre und Zukunftsfähiges Wirtschaften (STEOP): VWL-Teil (Oktober/November 2023)

LOCATION:WU Wien\, 1020 Wien\, Welthandelsplatz 1\, Teaching Center\, Audimax

URL;VALUE=URI:https://karrierekit.welthandelsplatz.at/oeh-kurse/volkswirtschaftslehre-und-zukunftsfahiges-wirtschaften-steop-vwl-teil-oktobernovember-2023

END:VEVENT
BEGIN:VEVENT
UID:08494b5e-d28f-4ac2-b75b-b03625c1e532@welthandelsplatz.at

SEQUENCE:0
STATUS:CONFIRMED
TRANSP:OPAQUE
CREATED:20260419T141237

DTSTAMP:20260419T141237

DTSTART;TZID=Europe/Vienna:20231011T190000

DTEND;TZID=Europe/Vienna:20231011T213000

SUMMARY:Volkswirtschaftslehre und Zukunftsfähiges Wirtschaften (STEOP): VWL-Teil (Oktober/November 2023)

LOCATION:WU Wien\, 1020 Wien\, Welthandelsplatz 1\, Teaching Center\, Audimax

URL;VALUE=URI:https://karrierekit.welthandelsplatz.at/oeh-kurse/volkswirtschaftslehre-und-zukunftsfahiges-wirtschaften-steop-vwl-teil-oktobernovember-2023

END:VEVENT
BEGIN:VEVENT
UID:c5fda380-bddd-4b57-b4e2-1a9c0a2e022c@welthandelsplatz.at

SEQUENCE:0
STATUS:CONFIRMED
TRANSP:OPAQUE
CREATED:20260419T141237

DTSTAMP:20260419T141237

DTSTART;TZID=Europe/Vienna:20231014T080000

DTEND;TZID=Europe/Vienna:20231014T123000

SUMMARY:Volkswirtschaftslehre und Zukunftsfähiges Wirtschaften (STEOP): VWL-Teil (Oktober/November 2023)

LOCATION:WU Wien\, 1020 Wien\, Welthandelsplatz 1\, Teaching Center\, Audimax

URL;VALUE=URI:https://karrierekit.welthandelsplatz.at/oeh-kurse/volkswirtschaftslehre-und-zukunftsfahiges-wirtschaften-steop-vwl-teil-oktobernovember-2023

END:VEVENT
BEGIN:VEVENT
UID:93acc31b-7603-40dd-8d92-a30b5d68e3b2@welthandelsplatz.at

SEQUENCE:0
STATUS:CONFIRMED
TRANSP:OPAQUE
CREATED:20260419T141237

DTSTAMP:20260419T141237

DTSTART;TZID=Europe/Vienna:20231016T190000

DTEND;TZID=Europe/Vienna:20231016T213000

SUMMARY:Volkswirtschaftslehre und Zukunftsfähiges Wirtschaften (STEOP): VWL-Teil (Oktober/November 2023)

LOCATION:WU Wien\, 1020 Wien\, Welthandelsplatz 1\, Teaching Center\, Audimax

URL;VALUE=URI:https://karrierekit.welthandelsplatz.at/oeh-kurse/volkswirtschaftslehre-und-zukunftsfahiges-wirtschaften-steop-vwl-teil-oktobernovember-2023

END:VEVENT
BEGIN:VEVENT
UID:9800812f-9d1d-4027-a48e-3485d3fa1c28@welthandelsplatz.at

SEQUENCE:0
STATUS:CONFIRMED
TRANSP:OPAQUE
CREATED:20260419T141237

DTSTAMP:20260419T141237

DTSTART;TZID=Europe/Vienna:20231017T193000

DTEND;TZID=Europe/Vienna:20231017T213000

SUMMARY:Volkswirtschaftslehre und Zukunftsfähiges Wirtschaften (STEOP): VWL-Teil (Oktober/November 2023)

LOCATION:WU Wien\, 1020 Wien\, Welthandelsplatz 1\, Teaching Center\, Audimax

URL;VALUE=URI:https://karrierekit.welthandelsplatz.at/oeh-kurse/volkswirtschaftslehre-und-zukunftsfahiges-wirtschaften-steop-vwl-teil-oktobernovember-2023

END:VEVENT
BEGIN:VEVENT
UID:ef6a6427-174e-4434-8462-2a2a7bcb72a4@welthandelsplatz.at

SEQUENCE:0
STATUS:CONFIRMED
TRANSP:OPAQUE
CREATED:20260419T141237

DTSTAMP:20260419T141237

DTSTART;TZID=Europe/Vienna:20231018T190000

DTEND;TZID=Europe/Vienna:20231018T213000

SUMMARY:Volkswirtschaftslehre und Zukunftsfähiges Wirtschaften (STEOP): VWL-Teil (Oktober/November 2023)

LOCATION:WU Wien\, 1020 Wien\, Welthandelsplatz 1\, Teaching Center\, Audimax

URL;VALUE=URI:https://karrierekit.welthandelsplatz.at/oeh-kurse/volkswirtschaftslehre-und-zukunftsfahiges-wirtschaften-steop-vwl-teil-oktobernovember-2023

END:VEVENT
BEGIN:VEVENT
UID:90ef1767-16b5-422a-8479-04d4a38a9b15@welthandelsplatz.at

SEQUENCE:0
STATUS:CONFIRMED
TRANSP:OPAQUE
CREATED:20260419T141237

DTSTAMP:20260419T141237

DTSTART;TZID=Europe/Vienna:20231107T193000

DTEND;TZID=Europe/Vienna:20231107T213000

SUMMARY:Volkswirtschaftslehre und Zukunftsfähiges Wirtschaften (STEOP): VWL-Teil (Oktober/November 2023)

LOCATION:WU Wien\, 1020 Wien\, Welthandelsplatz 1\, Teaching Center\, Audimax

URL;VALUE=URI:https://karrierekit.welthandelsplatz.at/oeh-kurse/volkswirtschaftslehre-und-zukunftsfahiges-wirtschaften-steop-vwl-teil-oktobernovember-2023

END:VEVENT
BEGIN:VEVENT
UID:14d8a0f9-372e-433a-8941-7b9d4a395a4f@welthandelsplatz.at

SEQUENCE:0
STATUS:CONFIRMED
TRANSP:OPAQUE
CREATED:20260419T141237

DTSTAMP:20260419T141237

DTSTART;TZID=Europe/Vienna:20231110T170000

DTEND;TZID=Europe/Vienna:20231110T213000

SUMMARY:Volkswirtschaftslehre und Zukunftsfähiges Wirtschaften (STEOP): VWL-Teil (Oktober/November 2023)

LOCATION:WU Wien\, 1020 Wien\, Welthandelsplatz 1\, Teaching Center\, Audimax

URL;VALUE=URI:https://karrierekit.welthandelsplatz.at/oeh-kurse/volkswirtschaftslehre-und-zukunftsfahiges-wirtschaften-steop-vwl-teil-oktobernovember-2023

END:VEVENT
BEGIN:VEVENT
UID:c454b89a-6254-4f12-9718-04c288b0517c@welthandelsplatz.at

SEQUENCE:0
STATUS:CONFIRMED
TRANSP:OPAQUE
CREATED:20260419T141237

DTSTAMP:20260419T141237

DTSTART;TZID=Europe/Vienna:20231113T140000

DTEND;TZID=Europe/Vienna:20231113T183000

SUMMARY:Volkswirtschaftslehre und Zukunftsfähiges Wirtschaften (STEOP): VWL-Teil (Oktober/November 2023)

LOCATION:WU Wien\, 1020 Wien\, Welthandelsplatz 1\, Teaching Center\, Audimax

URL;VALUE=URI:https://karrierekit.welthandelsplatz.at/oeh-kurse/volkswirtschaftslehre-und-zukunftsfahiges-wirtschaften-steop-vwl-teil-oktobernovember-2023

END:VEVENT
BEGIN:VEVENT
UID:46ab9f4b-efb0-497d-baa2-5f7ad996cfc7@welthandelsplatz.at

SEQUENCE:0
STATUS:CONFIRMED
TRANSP:OPAQUE
CREATED:20260419T141237

DTSTAMP:20260419T141237

DTSTART;TZID=Europe/Vienna:20231115T190000

DTEND;TZID=Europe/Vienna:20231115T213000

SUMMARY:Volkswirtschaftslehre und Zukunftsfähiges Wirtschaften (STEOP): VWL-Teil (Oktober/November 2023)

LOCATION:WU Wien\, 1020 Wien\, Welthandelsplatz 1\, Teaching Center\, Audimax

URL;VALUE=URI:https://karrierekit.welthandelsplatz.at/oeh-kurse/volkswirtschaftslehre-und-zukunftsfahiges-wirtschaften-steop-vwl-teil-oktobernovember-2023

END:VEVENT
BEGIN:VEVENT
UID:f611f903-12c6-4768-be39-ade71ce1b346@welthandelsplatz.at

SEQUENCE:0
STATUS:CONFIRMED
TRANSP:OPAQUE
CREATED:20260419T141237

DTSTAMP:20260419T141237

DTSTART;TZID=Europe/Vienna:20231117T163000

DTEND;TZID=Europe/Vienna:20231117T210000

SUMMARY:Volkswirtschaftslehre und Zukunftsfähiges Wirtschaften (STEOP): VWL-Teil (Oktober/November 2023)

LOCATION:WU Wien\, 1020 Wien\, Welthandelsplatz 1\, Teaching Center\, Audimax

URL;VALUE=URI:https://karrierekit.welthandelsplatz.at/oeh-kurse/volkswirtschaftslehre-und-zukunftsfahiges-wirtschaften-steop-vwl-teil-oktobernovember-2023

END:VEVENT
BEGIN:VEVENT
UID:ed68848b-515f-414c-8854-e2b0d4b95f3d@welthandelsplatz.at

SEQUENCE:0
STATUS:CONFIRMED
TRANSP:OPAQUE
CREATED:20260419T141237

DTSTAMP:20260419T141237

DTSTART;TZID=Europe/Vienna:20231120T120000

DTEND;TZID=Europe/Vienna:20231120T163000

SUMMARY:Volkswirtschaftslehre und Zukunftsfähiges Wirtschaften (STEOP): VWL-Teil (Oktober/November 2023)

LOCATION:WU Wien\, 1020 Wien\, Welthandelsplatz 1\, Teaching Center\, Audimax

URL;VALUE=URI:https://karrierekit.welthandelsplatz.at/oeh-kurse/volkswirtschaftslehre-und-zukunftsfahiges-wirtschaften-steop-vwl-teil-oktobernovember-2023

END:VEVENT
BEGIN:VEVENT
UID:861e8dbd-36c7-4b10-af25-0e10af3a86e4@welthandelsplatz.at

SEQUENCE:0
STATUS:CONFIRMED
TRANSP:OPAQUE
CREATED:20260419T141237

DTSTAMP:20260419T141237

DTSTART;TZID=Europe/Vienna:20231122T153000

DTEND;TZID=Europe/Vienna:20231122T200000

SUMMARY:Volkswirtschaftslehre und Zukunftsfähiges Wirtschaften (STEOP): VWL-Teil (Oktober/November 2023)

LOCATION:WU Wien\, 1020 Wien\, Welthandelsplatz 1\, Teaching Center\, Audimax

URL;VALUE=URI:https://karrierekit.welthandelsplatz.at/oeh-kurse/volkswirtschaftslehre-und-zukunftsfahiges-wirtschaften-steop-vwl-teil-oktobernovember-2023

END:VEVENT
BEGIN:VEVENT
UID:1afe2906-8244-46b0-be12-80b35dadab5d@welthandelsplatz.at

SEQUENCE:0
STATUS:CONFIRMED
TRANSP:OPAQUE
CREATED:20260419T141237

DTSTAMP:20260419T141237

DTSTART;TZID=Europe/Vienna:20231124T150000

DTEND;TZID=Europe/Vienna:20231124T203000

SUMMARY:Volkswirtschaftslehre und Zukunftsfähiges Wirtschaften (STEOP): VWL-Teil (Oktober/November 2023)

LOCATION:WU Wien\, 1020 Wien\, Welthandelsplatz 1\, Teaching Center\, Audimax

URL;VALUE=URI:https://karrierekit.welthandelsplatz.at/oeh-kurse/volkswirtschaftslehre-und-zukunftsfahiges-wirtschaften-steop-vwl-teil-oktobernovember-2023

END:VEVENT
BEGIN:VEVENT
UID:e789ed21-4e9c-4c60-8ccd-71aaf5f1b9b6@welthandelsplatz.at

SEQUENCE:0
STATUS:CONFIRMED
TRANSP:OPAQUE
CREATED:20260419T141237

DTSTAMP:20260419T141237

DTSTART;TZID=Europe/Vienna:20231125T083000

DTEND;TZID=Europe/Vienna:20231125T130000

SUMMARY:Volkswirtschaftslehre und Zukunftsfähiges Wirtschaften (STEOP): VWL-Teil (Oktober/November 2023)

LOCATION:WU Wien\, 1020 Wien\, Welthandelsplatz 1\, Teaching Center\, Audimax

URL;VALUE=URI:https://karrierekit.welthandelsplatz.at/oeh-kurse/volkswirtschaftslehre-und-zukunftsfahiges-wirtschaften-steop-vwl-teil-oktobernovember-2023

END:VEVENT
END:VCALENDAR