BEGIN:VCALENDAR
VERSION:2.0
PRODID:-//hacksw/handcal//NONSGML v1.0//EN
CALSCALE:GREGORIAN
METHOD:PUBLISH
BEGIN:VTIMEZONE
TZID:Europe/Vienna
BEGIN:DAYLIGHT
TZOFFSETFROM:+0100
RRULE:FREQ=YEARLY;BYMONTH=3;BYDAY=-1SU
DTSTART:19810329T020000
TZNAME:MESZ
TZOFFSETTO:+0200
END:DAYLIGHT
BEGIN:STANDARD
TZOFFSETFROM:+0200
RRULE:FREQ=YEARLY;BYMONTH=10;BYDAY=-1SU
DTSTART:19961027T030000
TZNAME:MEZ
TZOFFSETTO:+0100
END:STANDARD
END:VTIMEZONE
BEGIN:VEVENT
UID:9b3acd84-b133-48f8-8efc-0e02627f1b6f@welthandelsplatz.at

SEQUENCE:0
STATUS:CONFIRMED
TRANSP:OPAQUE
CREATED:20260419T142045

DTSTAMP:20260419T142045

DTSTART;TZID=Europe/Vienna:20231204T183000

DTEND;TZID=Europe/Vienna:20231204T213000

SUMMARY:Volkswirtschaftslehre und Zukunftsfähiges Wirtschaften (STEOP): VWL-Teil (Dezember 2023/Jänner 2024)

LOCATION:WU Wien\, 1020 Wien\, Welthandelsplatz 1\, Teaching Center\, Audimax

URL;VALUE=URI:https://karrierekit.welthandelsplatz.at/oeh-kurse/volkswirtschaftslehre-und-zukunftsfahiges-wirtschaften-steop-vwl-teil-dezember-2023janner-2024

END:VEVENT
BEGIN:VEVENT
UID:30587748-794d-42eb-9af2-0dc5eaa2882a@welthandelsplatz.at

SEQUENCE:0
STATUS:CONFIRMED
TRANSP:OPAQUE
CREATED:20260419T142045

DTSTAMP:20260419T142045

DTSTART;TZID=Europe/Vienna:20231205T160000

DTEND;TZID=Europe/Vienna:20231205T203000

SUMMARY:Volkswirtschaftslehre und Zukunftsfähiges Wirtschaften (STEOP): VWL-Teil (Dezember 2023/Jänner 2024)

LOCATION:WU Wien\, 1020 Wien\, Welthandelsplatz 1\, Teaching Center\, Audimax

URL;VALUE=URI:https://karrierekit.welthandelsplatz.at/oeh-kurse/volkswirtschaftslehre-und-zukunftsfahiges-wirtschaften-steop-vwl-teil-dezember-2023janner-2024

END:VEVENT
BEGIN:VEVENT
UID:d99b7a22-39ff-4e1c-91b1-968d1d23cce4@welthandelsplatz.at

SEQUENCE:0
STATUS:CONFIRMED
TRANSP:OPAQUE
CREATED:20260419T142045

DTSTAMP:20260419T142045

DTSTART;TZID=Europe/Vienna:20231209T130000

DTEND;TZID=Europe/Vienna:20231209T173000

SUMMARY:Volkswirtschaftslehre und Zukunftsfähiges Wirtschaften (STEOP): VWL-Teil (Dezember 2023/Jänner 2024)

LOCATION:WU Wien\, 1020 Wien\, Welthandelsplatz 1\, Teaching Center\, Audimax

URL;VALUE=URI:https://karrierekit.welthandelsplatz.at/oeh-kurse/volkswirtschaftslehre-und-zukunftsfahiges-wirtschaften-steop-vwl-teil-dezember-2023janner-2024

END:VEVENT
BEGIN:VEVENT
UID:d440e7e7-d046-497b-b298-bd99788ade3f@welthandelsplatz.at

SEQUENCE:0
STATUS:CONFIRMED
TRANSP:OPAQUE
CREATED:20260419T142045

DTSTAMP:20260419T142045

DTSTART;TZID=Europe/Vienna:20231211T180000

DTEND;TZID=Europe/Vienna:20231211T213000

SUMMARY:Volkswirtschaftslehre und Zukunftsfähiges Wirtschaften (STEOP): VWL-Teil (Dezember 2023/Jänner 2024)

LOCATION:WU Wien\, 1020 Wien\, Welthandelsplatz 1\, Teaching Center\, Audimax

URL;VALUE=URI:https://karrierekit.welthandelsplatz.at/oeh-kurse/volkswirtschaftslehre-und-zukunftsfahiges-wirtschaften-steop-vwl-teil-dezember-2023janner-2024

END:VEVENT
BEGIN:VEVENT
UID:c6dd26ff-bb27-4b2d-92d9-30279c6f324a@welthandelsplatz.at

SEQUENCE:0
STATUS:CONFIRMED
TRANSP:OPAQUE
CREATED:20260419T142045

DTSTAMP:20260419T142045

DTSTART;TZID=Europe/Vienna:20231212T193000

DTEND;TZID=Europe/Vienna:20231212T213000

SUMMARY:Volkswirtschaftslehre und Zukunftsfähiges Wirtschaften (STEOP): VWL-Teil (Dezember 2023/Jänner 2024)

LOCATION:WU Wien\, 1020 Wien\, Welthandelsplatz 1\, Teaching Center\, Audimax

URL;VALUE=URI:https://karrierekit.welthandelsplatz.at/oeh-kurse/volkswirtschaftslehre-und-zukunftsfahiges-wirtschaften-steop-vwl-teil-dezember-2023janner-2024

END:VEVENT
BEGIN:VEVENT
UID:5597d4f6-ce51-4e22-8408-754336f76f9b@welthandelsplatz.at

SEQUENCE:0
STATUS:CONFIRMED
TRANSP:OPAQUE
CREATED:20260419T142045

DTSTAMP:20260419T142045

DTSTART;TZID=Europe/Vienna:20231213T180000

DTEND;TZID=Europe/Vienna:20231213T213000

SUMMARY:Volkswirtschaftslehre und Zukunftsfähiges Wirtschaften (STEOP): VWL-Teil (Dezember 2023/Jänner 2024)

LOCATION:WU Wien\, 1020 Wien\, Welthandelsplatz 1\, Teaching Center\, Audimax

URL;VALUE=URI:https://karrierekit.welthandelsplatz.at/oeh-kurse/volkswirtschaftslehre-und-zukunftsfahiges-wirtschaften-steop-vwl-teil-dezember-2023janner-2024

END:VEVENT
BEGIN:VEVENT
UID:fa2be00b-302d-454d-aa68-e7f74133e332@welthandelsplatz.at

SEQUENCE:0
STATUS:CONFIRMED
TRANSP:OPAQUE
CREATED:20260419T142045

DTSTAMP:20260419T142045

DTSTART;TZID=Europe/Vienna:20240115T180000

DTEND;TZID=Europe/Vienna:20240115T213000

SUMMARY:Volkswirtschaftslehre und Zukunftsfähiges Wirtschaften (STEOP): VWL-Teil (Dezember 2023/Jänner 2024)

LOCATION:WU Wien\, 1020 Wien\, Welthandelsplatz 1\, Teaching Center\, Audimax

URL;VALUE=URI:https://karrierekit.welthandelsplatz.at/oeh-kurse/volkswirtschaftslehre-und-zukunftsfahiges-wirtschaften-steop-vwl-teil-dezember-2023janner-2024

END:VEVENT
BEGIN:VEVENT
UID:7b46e030-133e-4446-9e7d-7b221199a71c@welthandelsplatz.at

SEQUENCE:0
STATUS:CONFIRMED
TRANSP:OPAQUE
CREATED:20260419T142045

DTSTAMP:20260419T142045

DTSTART;TZID=Europe/Vienna:20240116T160000

DTEND;TZID=Europe/Vienna:20240116T203000

SUMMARY:Volkswirtschaftslehre und Zukunftsfähiges Wirtschaften (STEOP): VWL-Teil (Dezember 2023/Jänner 2024)

LOCATION:WU Wien\, 1020 Wien\, Welthandelsplatz 1\, Teaching Center\, Audimax

URL;VALUE=URI:https://karrierekit.welthandelsplatz.at/oeh-kurse/volkswirtschaftslehre-und-zukunftsfahiges-wirtschaften-steop-vwl-teil-dezember-2023janner-2024

END:VEVENT
BEGIN:VEVENT
UID:3de76280-ec79-4784-a1b1-f486ca9de0d3@welthandelsplatz.at

SEQUENCE:0
STATUS:CONFIRMED
TRANSP:OPAQUE
CREATED:20260419T142045

DTSTAMP:20260419T142045

DTSTART;TZID=Europe/Vienna:20240117T180000

DTEND;TZID=Europe/Vienna:20240117T213000

SUMMARY:Volkswirtschaftslehre und Zukunftsfähiges Wirtschaften (STEOP): VWL-Teil (Dezember 2023/Jänner 2024)

LOCATION:WU Wien\, 1020 Wien\, Welthandelsplatz 1\, Teaching Center\, Audimax

URL;VALUE=URI:https://karrierekit.welthandelsplatz.at/oeh-kurse/volkswirtschaftslehre-und-zukunftsfahiges-wirtschaften-steop-vwl-teil-dezember-2023janner-2024

END:VEVENT
BEGIN:VEVENT
UID:15509cfb-9e70-46a8-96b0-2a830e08e33c@welthandelsplatz.at

SEQUENCE:0
STATUS:CONFIRMED
TRANSP:OPAQUE
CREATED:20260419T142045

DTSTAMP:20260419T142045

DTSTART;TZID=Europe/Vienna:20240119T133000

DTEND;TZID=Europe/Vienna:20240119T160000

SUMMARY:Volkswirtschaftslehre und Zukunftsfähiges Wirtschaften (STEOP): VWL-Teil (Dezember 2023/Jänner 2024)

LOCATION:WU Wien\, 1020 Wien\, Welthandelsplatz 1\, Teaching Center\, Audimax

URL;VALUE=URI:https://karrierekit.welthandelsplatz.at/oeh-kurse/volkswirtschaftslehre-und-zukunftsfahiges-wirtschaften-steop-vwl-teil-dezember-2023janner-2024

END:VEVENT
BEGIN:VEVENT
UID:a3c45f1b-58a4-4f23-86c0-1be756a776fa@welthandelsplatz.at

SEQUENCE:0
STATUS:CONFIRMED
TRANSP:OPAQUE
CREATED:20260419T142045

DTSTAMP:20260419T142045

DTSTART;TZID=Europe/Vienna:20240120T140000

DTEND;TZID=Europe/Vienna:20240120T173000

SUMMARY:Volkswirtschaftslehre und Zukunftsfähiges Wirtschaften (STEOP): VWL-Teil (Dezember 2023/Jänner 2024)

LOCATION:WU Wien\, 1020 Wien\, Welthandelsplatz 1\, Teaching Center\, Audimax

URL;VALUE=URI:https://karrierekit.welthandelsplatz.at/oeh-kurse/volkswirtschaftslehre-und-zukunftsfahiges-wirtschaften-steop-vwl-teil-dezember-2023janner-2024

END:VEVENT
BEGIN:VEVENT
UID:1daaab2a-ea80-448a-95d7-3c2084d340cd@welthandelsplatz.at

SEQUENCE:0
STATUS:CONFIRMED
TRANSP:OPAQUE
CREATED:20260419T142045

DTSTAMP:20260419T142045

DTSTART;TZID=Europe/Vienna:20240123T163000

DTEND;TZID=Europe/Vienna:20240123T210000

SUMMARY:Volkswirtschaftslehre und Zukunftsfähiges Wirtschaften (STEOP): VWL-Teil (Dezember 2023/Jänner 2024)

LOCATION:WU Wien\, 1020 Wien\, Welthandelsplatz 1\, Teaching Center\, Audimax

URL;VALUE=URI:https://karrierekit.welthandelsplatz.at/oeh-kurse/volkswirtschaftslehre-und-zukunftsfahiges-wirtschaften-steop-vwl-teil-dezember-2023janner-2024

END:VEVENT
BEGIN:VEVENT
UID:900c858a-cc74-4891-858d-a219c628b5a8@welthandelsplatz.at

SEQUENCE:0
STATUS:CONFIRMED
TRANSP:OPAQUE
CREATED:20260419T142045

DTSTAMP:20260419T142045

DTSTART;TZID=Europe/Vienna:20240124T160000

DTEND;TZID=Europe/Vienna:20240124T203000

SUMMARY:Volkswirtschaftslehre und Zukunftsfähiges Wirtschaften (STEOP): VWL-Teil (Dezember 2023/Jänner 2024)

LOCATION:WU Wien\, 1020 Wien\, Welthandelsplatz 1\, Teaching Center\, Audimax

URL;VALUE=URI:https://karrierekit.welthandelsplatz.at/oeh-kurse/volkswirtschaftslehre-und-zukunftsfahiges-wirtschaften-steop-vwl-teil-dezember-2023janner-2024

END:VEVENT
BEGIN:VEVENT
UID:35093e4b-f7cd-4b58-969a-3c533a42a3d2@welthandelsplatz.at

SEQUENCE:0
STATUS:CONFIRMED
TRANSP:OPAQUE
CREATED:20260419T142045

DTSTAMP:20260419T142045

DTSTART;TZID=Europe/Vienna:20240125T190000

DTEND;TZID=Europe/Vienna:20240125T213000

SUMMARY:Volkswirtschaftslehre und Zukunftsfähiges Wirtschaften (STEOP): VWL-Teil (Dezember 2023/Jänner 2024)

LOCATION:WU Wien\, 1020 Wien\, Welthandelsplatz 1\, Teaching Center\, Audimax

URL;VALUE=URI:https://karrierekit.welthandelsplatz.at/oeh-kurse/volkswirtschaftslehre-und-zukunftsfahiges-wirtschaften-steop-vwl-teil-dezember-2023janner-2024

END:VEVENT
BEGIN:VEVENT
UID:4baf0027-2113-444a-9798-f52d916b74d7@welthandelsplatz.at

SEQUENCE:0
STATUS:CONFIRMED
TRANSP:OPAQUE
CREATED:20260419T142045

DTSTAMP:20260419T142045

DTSTART;TZID=Europe/Vienna:20240127T140000

DTEND;TZID=Europe/Vienna:20240127T173000

SUMMARY:Volkswirtschaftslehre und Zukunftsfähiges Wirtschaften (STEOP): VWL-Teil (Dezember 2023/Jänner 2024)

LOCATION:WU Wien\, 1020 Wien\, Welthandelsplatz 1\, Teaching Center\, Audimax

URL;VALUE=URI:https://karrierekit.welthandelsplatz.at/oeh-kurse/volkswirtschaftslehre-und-zukunftsfahiges-wirtschaften-steop-vwl-teil-dezember-2023janner-2024

END:VEVENT
END:VCALENDAR