BEGIN:VCALENDAR
VERSION:2.0
PRODID:-//hacksw/handcal//NONSGML v1.0//EN
CALSCALE:GREGORIAN
METHOD:PUBLISH
BEGIN:VTIMEZONE
TZID:Europe/Vienna
BEGIN:DAYLIGHT
TZOFFSETFROM:+0100
RRULE:FREQ=YEARLY;BYMONTH=3;BYDAY=-1SU
DTSTART:19810329T020000
TZNAME:MESZ
TZOFFSETTO:+0200
END:DAYLIGHT
BEGIN:STANDARD
TZOFFSETFROM:+0200
RRULE:FREQ=YEARLY;BYMONTH=10;BYDAY=-1SU
DTSTART:19961027T030000
TZNAME:MEZ
TZOFFSETTO:+0100
END:STANDARD
END:VTIMEZONE
BEGIN:VEVENT
UID:c9ac031c-a257-47bb-bba5-e92cde757afb@welthandelsplatz.at

SEQUENCE:0
STATUS:CONFIRMED
TRANSP:OPAQUE
CREATED:20260419T141037

DTSTAMP:20260419T141037

DTSTART;TZID=Europe/Vienna:20240315T123000

DTEND;TZID=Europe/Vienna:20240315T170000

SUMMARY:Volkswirtschaftslehre und Zukünftiges Wirtschaften (STEOP): VWL-Teil (März/April/Mai 2024)

LOCATION:WU Wien\, 1020 Wien\, Welthandelsplatz 1\, Teaching Center\, Hörsaal TC 0.02

URL;VALUE=URI:https://karrierekit.welthandelsplatz.at/oeh-kurse/volkswirtschaftslehre-und-zukunftiges-wirtschaften-steop-vwl-teil-marzaprilmai-2024

END:VEVENT
BEGIN:VEVENT
UID:b7654bfa-5ca0-4aad-9020-912a4c62096c@welthandelsplatz.at

SEQUENCE:0
STATUS:CONFIRMED
TRANSP:OPAQUE
CREATED:20260419T141037

DTSTAMP:20260419T141037

DTSTART;TZID=Europe/Vienna:20240318T123000

DTEND;TZID=Europe/Vienna:20240318T170000

SUMMARY:Volkswirtschaftslehre und Zukünftiges Wirtschaften (STEOP): VWL-Teil (März/April/Mai 2024)

LOCATION:WU Wien\, 1020 Wien\, Welthandelsplatz 1\, Teaching Center\, Hörsaal TC 0.02

URL;VALUE=URI:https://karrierekit.welthandelsplatz.at/oeh-kurse/volkswirtschaftslehre-und-zukunftiges-wirtschaften-steop-vwl-teil-marzaprilmai-2024

END:VEVENT
BEGIN:VEVENT
UID:2f9319a6-5820-4635-adea-7f7ea9d6cbad@welthandelsplatz.at

SEQUENCE:0
STATUS:CONFIRMED
TRANSP:OPAQUE
CREATED:20260419T141037

DTSTAMP:20260419T141037

DTSTART;TZID=Europe/Vienna:20240319T170000

DTEND;TZID=Europe/Vienna:20240319T213000

SUMMARY:Volkswirtschaftslehre und Zukünftiges Wirtschaften (STEOP): VWL-Teil (März/April/Mai 2024)

LOCATION:WU Wien\, 1020 Wien\, Welthandelsplatz 1\, Teaching Center\, Hörsaal TC 0.02

URL;VALUE=URI:https://karrierekit.welthandelsplatz.at/oeh-kurse/volkswirtschaftslehre-und-zukunftiges-wirtschaften-steop-vwl-teil-marzaprilmai-2024

END:VEVENT
BEGIN:VEVENT
UID:56552556-f2be-43cc-b8bb-cd31c564bb19@welthandelsplatz.at

SEQUENCE:0
STATUS:CONFIRMED
TRANSP:OPAQUE
CREATED:20260419T141037

DTSTAMP:20260419T141037

DTSTART;TZID=Europe/Vienna:20240322T123000

DTEND;TZID=Europe/Vienna:20240322T170000

SUMMARY:Volkswirtschaftslehre und Zukünftiges Wirtschaften (STEOP): VWL-Teil (März/April/Mai 2024)

LOCATION:WU Wien\, 1020 Wien\, Welthandelsplatz 1\, Teaching Center\, Hörsaal TC 0.02

URL;VALUE=URI:https://karrierekit.welthandelsplatz.at/oeh-kurse/volkswirtschaftslehre-und-zukunftiges-wirtschaften-steop-vwl-teil-marzaprilmai-2024

END:VEVENT
BEGIN:VEVENT
UID:3c115899-3033-427d-82e5-cb17f890f52e@welthandelsplatz.at

SEQUENCE:0
STATUS:CONFIRMED
TRANSP:OPAQUE
CREATED:20260419T141037

DTSTAMP:20260419T141037

DTSTART;TZID=Europe/Vienna:20240409T170000

DTEND;TZID=Europe/Vienna:20240409T213000

SUMMARY:Volkswirtschaftslehre und Zukünftiges Wirtschaften (STEOP): VWL-Teil (März/April/Mai 2024)

LOCATION:WU Wien\, 1020 Wien\, Welthandelsplatz 1\, Teaching Center\, Hörsaal TC 0.02

URL;VALUE=URI:https://karrierekit.welthandelsplatz.at/oeh-kurse/volkswirtschaftslehre-und-zukunftiges-wirtschaften-steop-vwl-teil-marzaprilmai-2024

END:VEVENT
BEGIN:VEVENT
UID:65b8ce61-18bb-4e5c-891f-8b9c5f0844ff@welthandelsplatz.at

SEQUENCE:0
STATUS:CONFIRMED
TRANSP:OPAQUE
CREATED:20260419T141037

DTSTAMP:20260419T141037

DTSTART;TZID=Europe/Vienna:20240412T123000

DTEND;TZID=Europe/Vienna:20240412T170000

SUMMARY:Volkswirtschaftslehre und Zukünftiges Wirtschaften (STEOP): VWL-Teil (März/April/Mai 2024)

LOCATION:WU Wien\, 1020 Wien\, Welthandelsplatz 1\, Teaching Center\, Hörsaal TC 0.02

URL;VALUE=URI:https://karrierekit.welthandelsplatz.at/oeh-kurse/volkswirtschaftslehre-und-zukunftiges-wirtschaften-steop-vwl-teil-marzaprilmai-2024

END:VEVENT
BEGIN:VEVENT
UID:f1635b89-2107-42b0-899e-aae680c43365@welthandelsplatz.at

SEQUENCE:0
STATUS:CONFIRMED
TRANSP:OPAQUE
CREATED:20260419T141037

DTSTAMP:20260419T141037

DTSTART;TZID=Europe/Vienna:20240413T080000

DTEND;TZID=Europe/Vienna:20240413T123000

SUMMARY:Volkswirtschaftslehre und Zukünftiges Wirtschaften (STEOP): VWL-Teil (März/April/Mai 2024)

LOCATION:WU Wien\, 1020 Wien\, Welthandelsplatz 1\, Teaching Center\, Hörsaal TC 0.02

URL;VALUE=URI:https://karrierekit.welthandelsplatz.at/oeh-kurse/volkswirtschaftslehre-und-zukunftiges-wirtschaften-steop-vwl-teil-marzaprilmai-2024

END:VEVENT
BEGIN:VEVENT
UID:98fb9da3-c28c-487f-8521-e97f7de9bcf0@welthandelsplatz.at

SEQUENCE:0
STATUS:CONFIRMED
TRANSP:OPAQUE
CREATED:20260419T141037

DTSTAMP:20260419T141037

DTSTART;TZID=Europe/Vienna:20240416T170000

DTEND;TZID=Europe/Vienna:20240416T213000

SUMMARY:Volkswirtschaftslehre und Zukünftiges Wirtschaften (STEOP): VWL-Teil (März/April/Mai 2024)

LOCATION:WU Wien\, 1020 Wien\, Welthandelsplatz 1\, Teaching Center\, Hörsaal TC 0.02

URL;VALUE=URI:https://karrierekit.welthandelsplatz.at/oeh-kurse/volkswirtschaftslehre-und-zukunftiges-wirtschaften-steop-vwl-teil-marzaprilmai-2024

END:VEVENT
BEGIN:VEVENT
UID:31709b49-3aa9-4301-a679-e7e5db21be70@welthandelsplatz.at

SEQUENCE:0
STATUS:CONFIRMED
TRANSP:OPAQUE
CREATED:20260419T141037

DTSTAMP:20260419T141037

DTSTART;TZID=Europe/Vienna:20240419T123000

DTEND;TZID=Europe/Vienna:20240419T170000

SUMMARY:Volkswirtschaftslehre und Zukünftiges Wirtschaften (STEOP): VWL-Teil (März/April/Mai 2024)

LOCATION:WU Wien\, 1020 Wien\, Welthandelsplatz 1\, Teaching Center\, Hörsaal TC 0.02

URL;VALUE=URI:https://karrierekit.welthandelsplatz.at/oeh-kurse/volkswirtschaftslehre-und-zukunftiges-wirtschaften-steop-vwl-teil-marzaprilmai-2024

END:VEVENT
BEGIN:VEVENT
UID:ff1ed222-e9b7-4da5-9d80-53e9ab69611b@welthandelsplatz.at

SEQUENCE:0
STATUS:CONFIRMED
TRANSP:OPAQUE
CREATED:20260419T141037

DTSTAMP:20260419T141037

DTSTART;TZID=Europe/Vienna:20240420T080000

DTEND;TZID=Europe/Vienna:20240420T123000

SUMMARY:Volkswirtschaftslehre und Zukünftiges Wirtschaften (STEOP): VWL-Teil (März/April/Mai 2024)

LOCATION:WU Wien\, 1020 Wien\, Welthandelsplatz 1\, Teaching Center\, Hörsaal TC 0.02

URL;VALUE=URI:https://karrierekit.welthandelsplatz.at/oeh-kurse/volkswirtschaftslehre-und-zukunftiges-wirtschaften-steop-vwl-teil-marzaprilmai-2024

END:VEVENT
BEGIN:VEVENT
UID:e4f60b0e-1fa5-47e3-b4ca-f4e100493304@welthandelsplatz.at

SEQUENCE:0
STATUS:CONFIRMED
TRANSP:OPAQUE
CREATED:20260419T141037

DTSTAMP:20260419T141037

DTSTART;TZID=Europe/Vienna:20240429T160000

DTEND;TZID=Europe/Vienna:20240429T203000

SUMMARY:Volkswirtschaftslehre und Zukünftiges Wirtschaften (STEOP): VWL-Teil (März/April/Mai 2024)

LOCATION:WU Wien\, 1020 Wien\, Welthandelsplatz 1\, Teaching Center\, Hörsaal TC 0.01

URL;VALUE=URI:https://karrierekit.welthandelsplatz.at/oeh-kurse/volkswirtschaftslehre-und-zukunftiges-wirtschaften-steop-vwl-teil-marzaprilmai-2024

END:VEVENT
BEGIN:VEVENT
UID:d345bcd0-25db-43b2-9d14-c378fd9d7397@welthandelsplatz.at

SEQUENCE:0
STATUS:CONFIRMED
TRANSP:OPAQUE
CREATED:20260419T141037

DTSTAMP:20260419T141037

DTSTART;TZID=Europe/Vienna:20240503T153000

DTEND;TZID=Europe/Vienna:20240503T200000

SUMMARY:Volkswirtschaftslehre und Zukünftiges Wirtschaften (STEOP): VWL-Teil (März/April/Mai 2024)

LOCATION:WU Wien\, 1020 Wien\, Welthandelsplatz 1\, Teaching Center\, Hörsaal TC 0.04

URL;VALUE=URI:https://karrierekit.welthandelsplatz.at/oeh-kurse/volkswirtschaftslehre-und-zukunftiges-wirtschaften-steop-vwl-teil-marzaprilmai-2024

END:VEVENT
END:VCALENDAR