BEGIN:VCALENDAR
VERSION:2.0
PRODID:-//hacksw/handcal//NONSGML v1.0//EN
CALSCALE:GREGORIAN
METHOD:PUBLISH
BEGIN:VTIMEZONE
TZID:Europe/Vienna
BEGIN:DAYLIGHT
TZOFFSETFROM:+0100
RRULE:FREQ=YEARLY;BYMONTH=3;BYDAY=-1SU
DTSTART:19810329T020000
TZNAME:MESZ
TZOFFSETTO:+0200
END:DAYLIGHT
BEGIN:STANDARD
TZOFFSETFROM:+0200
RRULE:FREQ=YEARLY;BYMONTH=10;BYDAY=-1SU
DTSTART:19961027T030000
TZNAME:MEZ
TZOFFSETTO:+0100
END:STANDARD
END:VTIMEZONE
BEGIN:VEVENT
UID:16de00a2-53e7-4e47-b6c9-4e2239af3066@welthandelsplatz.at

SEQUENCE:0
STATUS:CONFIRMED
TRANSP:OPAQUE
CREATED:20260419T141537

DTSTAMP:20260419T141537

DTSTART;TZID=Europe/Vienna:20240514T160000

DTEND;TZID=Europe/Vienna:20240514T203000

SUMMARY:Volkswirtschaftslehre und Zukünftiges Wirtschaften (STEOP): VWL-Teil (Mai/Juni 2024)

LOCATION:WU Wien\, 1020 Wien\, Welthandelsplatz 1\, Teaching Center\, TC.0.04

URL;VALUE=URI:https://karrierekit.welthandelsplatz.at/oeh-kurse/volkswirtschaftslehre-und-zukunftiges-wirtschaften-steop-vwl-teil-maijuni-2024

END:VEVENT
BEGIN:VEVENT
UID:dd7f8246-1cff-4c84-a2af-2ffd4436f7fb@welthandelsplatz.at

SEQUENCE:0
STATUS:CONFIRMED
TRANSP:OPAQUE
CREATED:20260419T141537

DTSTAMP:20260419T141537

DTSTART;TZID=Europe/Vienna:20240517T110000

DTEND;TZID=Europe/Vienna:20240517T140000

SUMMARY:Volkswirtschaftslehre und Zukünftiges Wirtschaften (STEOP): VWL-Teil (Mai/Juni 2024)

LOCATION:WU Wien\, 1020 Wien\, Welthandelsplatz 1\, Teaching Center\, TC.0.02

URL;VALUE=URI:https://karrierekit.welthandelsplatz.at/oeh-kurse/volkswirtschaftslehre-und-zukunftiges-wirtschaften-steop-vwl-teil-maijuni-2024

END:VEVENT
BEGIN:VEVENT
UID:62a00bd8-1b41-403f-81e4-db60b5732f89@welthandelsplatz.at

SEQUENCE:0
STATUS:CONFIRMED
TRANSP:OPAQUE
CREATED:20260419T141537

DTSTAMP:20260419T141537

DTSTART;TZID=Europe/Vienna:20240518T080000

DTEND;TZID=Europe/Vienna:20240518T123000

SUMMARY:Volkswirtschaftslehre und Zukünftiges Wirtschaften (STEOP): VWL-Teil (Mai/Juni 2024)

LOCATION:WU Wien\, 1020 Wien\, Welthandelsplatz 1\, Teaching Center\, TC.0.02

URL;VALUE=URI:https://karrierekit.welthandelsplatz.at/oeh-kurse/volkswirtschaftslehre-und-zukunftiges-wirtschaften-steop-vwl-teil-maijuni-2024

END:VEVENT
BEGIN:VEVENT
UID:e07d08b2-b3e3-469c-aa50-fe87f4e2f814@welthandelsplatz.at

SEQUENCE:0
STATUS:CONFIRMED
TRANSP:OPAQUE
CREATED:20260419T141537

DTSTAMP:20260419T141537

DTSTART;TZID=Europe/Vienna:20240522T163000

DTEND;TZID=Europe/Vienna:20240522T210000

SUMMARY:Volkswirtschaftslehre und Zukünftiges Wirtschaften (STEOP): VWL-Teil (Mai/Juni 2024)

LOCATION:WU Wien\, 1020 Wien\, Welthandelsplatz 1\, Teaching Center\, TC.0.02

URL;VALUE=URI:https://karrierekit.welthandelsplatz.at/oeh-kurse/volkswirtschaftslehre-und-zukunftiges-wirtschaften-steop-vwl-teil-maijuni-2024

END:VEVENT
BEGIN:VEVENT
UID:cac07503-7d75-46c2-97b3-c4d8a4c6ed25@welthandelsplatz.at

SEQUENCE:0
STATUS:CONFIRMED
TRANSP:OPAQUE
CREATED:20260419T141537

DTSTAMP:20260419T141537

DTSTART;TZID=Europe/Vienna:20240524T113000

DTEND;TZID=Europe/Vienna:20240524T160000

SUMMARY:Volkswirtschaftslehre und Zukünftiges Wirtschaften (STEOP): VWL-Teil (Mai/Juni 2024)

LOCATION:WU Wien\, 1020 Wien\, Welthandelsplatz 1\, Teaching Center\, TC.0.03

URL;VALUE=URI:https://karrierekit.welthandelsplatz.at/oeh-kurse/volkswirtschaftslehre-und-zukunftiges-wirtschaften-steop-vwl-teil-maijuni-2024

END:VEVENT
BEGIN:VEVENT
UID:c7a9137c-e238-4b8b-8054-21141a1371d1@welthandelsplatz.at

SEQUENCE:0
STATUS:CONFIRMED
TRANSP:OPAQUE
CREATED:20260419T141537

DTSTAMP:20260419T141537

DTSTART;TZID=Europe/Vienna:20240528T160000

DTEND;TZID=Europe/Vienna:20240528T203000

SUMMARY:Volkswirtschaftslehre und Zukünftiges Wirtschaften (STEOP): VWL-Teil (Mai/Juni 2024)

LOCATION:WU Wien\, 1020 Wien\, Welthandelsplatz 1\, Teaching Center\, TC.0.01

URL;VALUE=URI:https://karrierekit.welthandelsplatz.at/oeh-kurse/volkswirtschaftslehre-und-zukunftiges-wirtschaften-steop-vwl-teil-maijuni-2024

END:VEVENT
BEGIN:VEVENT
UID:27abd20d-41ad-435e-bff5-23b3d4bf81c6@welthandelsplatz.at

SEQUENCE:0
STATUS:CONFIRMED
TRANSP:OPAQUE
CREATED:20260419T141537

DTSTAMP:20260419T141537

DTSTART;TZID=Europe/Vienna:20240603T160000

DTEND;TZID=Europe/Vienna:20240603T203000

SUMMARY:Volkswirtschaftslehre und Zukünftiges Wirtschaften (STEOP): VWL-Teil (Mai/Juni 2024)

LOCATION:WU Wien\, 1020 Wien\, Welthandelsplatz 1\, Teaching Center\, TC.0.01

URL;VALUE=URI:https://karrierekit.welthandelsplatz.at/oeh-kurse/volkswirtschaftslehre-und-zukunftiges-wirtschaften-steop-vwl-teil-maijuni-2024

END:VEVENT
BEGIN:VEVENT
UID:fd174885-145c-475b-b7da-f5b88ccbda5e@welthandelsplatz.at

SEQUENCE:0
STATUS:CONFIRMED
TRANSP:OPAQUE
CREATED:20260419T141537

DTSTAMP:20260419T141537

DTSTART;TZID=Europe/Vienna:20240605T160000

DTEND;TZID=Europe/Vienna:20240605T203000

SUMMARY:Volkswirtschaftslehre und Zukünftiges Wirtschaften (STEOP): VWL-Teil (Mai/Juni 2024)

LOCATION:WU Wien\, 1020 Wien\, Welthandelsplatz 1\, Teaching Center\, TC.0.02

URL;VALUE=URI:https://karrierekit.welthandelsplatz.at/oeh-kurse/volkswirtschaftslehre-und-zukunftiges-wirtschaften-steop-vwl-teil-maijuni-2024

END:VEVENT
BEGIN:VEVENT
UID:cbef2e06-15ec-485d-8d4f-8e0f2a3af93c@welthandelsplatz.at

SEQUENCE:0
STATUS:CONFIRMED
TRANSP:OPAQUE
CREATED:20260419T141537

DTSTAMP:20260419T141537

DTSTART;TZID=Europe/Vienna:20240607T113000

DTEND;TZID=Europe/Vienna:20240607T160000

SUMMARY:Volkswirtschaftslehre und Zukünftiges Wirtschaften (STEOP): VWL-Teil (Mai/Juni 2024)

LOCATION:WU Wien\, 1020 Wien\, Welthandelsplatz 1\, Teaching Center\, TC.0.01

URL;VALUE=URI:https://karrierekit.welthandelsplatz.at/oeh-kurse/volkswirtschaftslehre-und-zukunftiges-wirtschaften-steop-vwl-teil-maijuni-2024

END:VEVENT
BEGIN:VEVENT
UID:d9ed9062-2cd0-4412-a311-47c0cdc724fa@welthandelsplatz.at

SEQUENCE:0
STATUS:CONFIRMED
TRANSP:OPAQUE
CREATED:20260419T141537

DTSTAMP:20260419T141537

DTSTART;TZID=Europe/Vienna:20240611T160000

DTEND;TZID=Europe/Vienna:20240611T203000

SUMMARY:Volkswirtschaftslehre und Zukünftiges Wirtschaften (STEOP): VWL-Teil (Mai/Juni 2024)

LOCATION:WU Wien\, 1020 Wien\, Welthandelsplatz 1\, Teaching Center\, TC.0.02

URL;VALUE=URI:https://karrierekit.welthandelsplatz.at/oeh-kurse/volkswirtschaftslehre-und-zukunftiges-wirtschaften-steop-vwl-teil-maijuni-2024

END:VEVENT
BEGIN:VEVENT
UID:2e0bb323-8736-4276-b6b5-cbde4c3a551e@welthandelsplatz.at

SEQUENCE:0
STATUS:CONFIRMED
TRANSP:OPAQUE
CREATED:20260419T141537

DTSTAMP:20260419T141537

DTSTART;TZID=Europe/Vienna:20240614T113000

DTEND;TZID=Europe/Vienna:20240614T160000

SUMMARY:Volkswirtschaftslehre und Zukünftiges Wirtschaften (STEOP): VWL-Teil (Mai/Juni 2024)

LOCATION:WU Wien\, 1020 Wien\, Welthandelsplatz 1\, Teaching Center\, TC.0.04

URL;VALUE=URI:https://karrierekit.welthandelsplatz.at/oeh-kurse/volkswirtschaftslehre-und-zukunftiges-wirtschaften-steop-vwl-teil-maijuni-2024

END:VEVENT
BEGIN:VEVENT
UID:716c3b7e-6354-405d-b22f-651a2885f65c@welthandelsplatz.at

SEQUENCE:0
STATUS:CONFIRMED
TRANSP:OPAQUE
CREATED:20260419T141537

DTSTAMP:20260419T141537

DTSTART;TZID=Europe/Vienna:20240619T153000

DTEND;TZID=Europe/Vienna:20240619T200000

SUMMARY:Volkswirtschaftslehre und Zukünftiges Wirtschaften (STEOP): VWL-Teil (Mai/Juni 2024)

LOCATION:WU Wien\, 1020 Wien\, Welthandelsplatz 1\, Teaching Center\, TC.0.04

URL;VALUE=URI:https://karrierekit.welthandelsplatz.at/oeh-kurse/volkswirtschaftslehre-und-zukunftiges-wirtschaften-steop-vwl-teil-maijuni-2024

END:VEVENT
END:VCALENDAR