BEGIN:VCALENDAR
VERSION:2.0
PRODID:-//hacksw/handcal//NONSGML v1.0//EN
CALSCALE:GREGORIAN
METHOD:PUBLISH
BEGIN:VTIMEZONE
TZID:Europe/Vienna
BEGIN:DAYLIGHT
TZOFFSETFROM:+0100
RRULE:FREQ=YEARLY;BYMONTH=3;BYDAY=-1SU
DTSTART:19810329T020000
TZNAME:MESZ
TZOFFSETTO:+0200
END:DAYLIGHT
BEGIN:STANDARD
TZOFFSETFROM:+0200
RRULE:FREQ=YEARLY;BYMONTH=10;BYDAY=-1SU
DTSTART:19961027T030000
TZNAME:MEZ
TZOFFSETTO:+0100
END:STANDARD
END:VTIMEZONE
BEGIN:VEVENT
UID:bc304e9f-d85b-4096-9db4-99e96df81357@welthandelsplatz.at

SEQUENCE:0
STATUS:CONFIRMED
TRANSP:OPAQUE
CREATED:20260419T173816

DTSTAMP:20260419T173816

DTSTART;TZID=Europe/Vienna:20250604T133000

DTEND;TZID=Europe/Vienna:20250604T173000

SUMMARY:TEST Grundlagen des Zivilrechts (WIRE CBK) Juni

LOCATION:D5.0.001 Hörsaal

URL;VALUE=URI:https://karrierekit.welthandelsplatz.at/oeh-kurse/test-grundlagen-des-zivilrechts-wire-cbk-juni

END:VEVENT
END:VCALENDAR