BEGIN:VCALENDAR
VERSION:2.0
PRODID:-//hacksw/handcal//NONSGML v1.0//EN
CALSCALE:GREGORIAN
METHOD:PUBLISH
BEGIN:VTIMEZONE
TZID:Europe/Vienna
BEGIN:DAYLIGHT
TZOFFSETFROM:+0100
RRULE:FREQ=YEARLY;BYMONTH=3;BYDAY=-1SU
DTSTART:19810329T020000
TZNAME:MESZ
TZOFFSETTO:+0200
END:DAYLIGHT
BEGIN:STANDARD
TZOFFSETFROM:+0200
RRULE:FREQ=YEARLY;BYMONTH=10;BYDAY=-1SU
DTSTART:19961027T030000
TZNAME:MEZ
TZOFFSETTO:+0100
END:STANDARD
END:VTIMEZONE
BEGIN:VEVENT
UID:619277ef-e042-487d-908e-98b6f2fd8916@welthandelsplatz.at

SEQUENCE:0
STATUS:CONFIRMED
TRANSP:OPAQUE
CREATED:20260419T141022

DTSTAMP:20260419T141022

DTSTART;TZID=Europe/Vienna:20231009T171500

DTEND;TZID=Europe/Vienna:20231009T201500

SUMMARY:Statistik (CBK) WinterSemester 23/24 (November)

LOCATION:TC.0.02

URL;VALUE=URI:https://karrierekit.welthandelsplatz.at/oeh-kurse/statistik-cbk-wintersemester-2324-november

END:VEVENT
BEGIN:VEVENT
UID:ddefe62f-57f9-4c73-93c3-2f413eabf2d4@welthandelsplatz.at

SEQUENCE:0
STATUS:CONFIRMED
TRANSP:OPAQUE
CREATED:20260419T141022

DTSTAMP:20260419T141022

DTSTART;TZID=Europe/Vienna:20231011T164500

DTEND;TZID=Europe/Vienna:20231011T194500

SUMMARY:Statistik (CBK) WinterSemester 23/24 (November)

LOCATION:TC.1.02

URL;VALUE=URI:https://karrierekit.welthandelsplatz.at/oeh-kurse/statistik-cbk-wintersemester-2324-november

END:VEVENT
BEGIN:VEVENT
UID:ecebecbb-bdcd-49e0-955b-e4f92feba747@welthandelsplatz.at

SEQUENCE:0
STATUS:CONFIRMED
TRANSP:OPAQUE
CREATED:20260419T141022

DTSTAMP:20260419T141022

DTSTART;TZID=Europe/Vienna:20231018T164500

DTEND;TZID=Europe/Vienna:20231018T194500

SUMMARY:Statistik (CBK) WinterSemester 23/24 (November)

LOCATION:TC.0.03

URL;VALUE=URI:https://karrierekit.welthandelsplatz.at/oeh-kurse/statistik-cbk-wintersemester-2324-november

END:VEVENT
BEGIN:VEVENT
UID:7c0a27c2-3cfc-447a-b598-48a5ef96ce29@welthandelsplatz.at

SEQUENCE:0
STATUS:CONFIRMED
TRANSP:OPAQUE
CREATED:20260419T141022

DTSTAMP:20260419T141022

DTSTART;TZID=Europe/Vienna:20231025T164500

DTEND;TZID=Europe/Vienna:20231025T194500

SUMMARY:Statistik (CBK) WinterSemester 23/24 (November)

LOCATION:TC.0.03

URL;VALUE=URI:https://karrierekit.welthandelsplatz.at/oeh-kurse/statistik-cbk-wintersemester-2324-november

END:VEVENT
BEGIN:VEVENT
UID:431160d9-6073-461c-9f1b-24b8bab67b6c@welthandelsplatz.at

SEQUENCE:0
STATUS:CONFIRMED
TRANSP:OPAQUE
CREATED:20260419T141022

DTSTAMP:20260419T141022

DTSTART;TZID=Europe/Vienna:20231030T164500

DTEND;TZID=Europe/Vienna:20231030T194500

SUMMARY:Statistik (CBK) WinterSemester 23/24 (November)

LOCATION:TC.0.03

URL;VALUE=URI:https://karrierekit.welthandelsplatz.at/oeh-kurse/statistik-cbk-wintersemester-2324-november

END:VEVENT
BEGIN:VEVENT
UID:6fb75fec-e957-425c-9a36-eb0c4b6d354b@welthandelsplatz.at

SEQUENCE:0
STATUS:CONFIRMED
TRANSP:OPAQUE
CREATED:20260419T141022

DTSTAMP:20260419T141022

DTSTART;TZID=Europe/Vienna:20231107T174000

DTEND;TZID=Europe/Vienna:20231107T204000

SUMMARY:Statistik (CBK) WinterSemester 23/24 (November)

LOCATION:TC.2.02

URL;VALUE=URI:https://karrierekit.welthandelsplatz.at/oeh-kurse/statistik-cbk-wintersemester-2324-november

END:VEVENT
END:VCALENDAR