BEGIN:VCALENDAR
VERSION:2.0
PRODID:-//hacksw/handcal//NONSGML v1.0//EN
CALSCALE:GREGORIAN
METHOD:PUBLISH
BEGIN:VTIMEZONE
TZID:Europe/Vienna
BEGIN:DAYLIGHT
TZOFFSETFROM:+0100
RRULE:FREQ=YEARLY;BYMONTH=3;BYDAY=-1SU
DTSTART:19810329T020000
TZNAME:MESZ
TZOFFSETTO:+0200
END:DAYLIGHT
BEGIN:STANDARD
TZOFFSETFROM:+0200
RRULE:FREQ=YEARLY;BYMONTH=10;BYDAY=-1SU
DTSTART:19961027T030000
TZNAME:MEZ
TZOFFSETTO:+0100
END:STANDARD
END:VTIMEZONE
BEGIN:VEVENT
UID:d4e4ef72-6186-447b-8594-69c07d718b95@welthandelsplatz.at

SEQUENCE:0
STATUS:CONFIRMED
TRANSP:OPAQUE
CREATED:20260420T010638

DTSTAMP:20260420T010638

DTSTART;TZID=Europe/Vienna:20231204T164500

DTEND;TZID=Europe/Vienna:20231204T194500

SUMMARY:Statistik (CBK) WinterSemester 23/24 (Jänner)

LOCATION:TC.0.01

URL;VALUE=URI:https://karrierekit.welthandelsplatz.at/oeh-kurse/statistik-cbk-wintersemester-2324-janner

END:VEVENT
BEGIN:VEVENT
UID:6f686106-4e42-4f35-b222-f5d9583fea3e@welthandelsplatz.at

SEQUENCE:0
STATUS:CONFIRMED
TRANSP:OPAQUE
CREATED:20260420T010638

DTSTAMP:20260420T010638

DTSTART;TZID=Europe/Vienna:20231206T164500

DTEND;TZID=Europe/Vienna:20231206T194500

SUMMARY:Statistik (CBK) WinterSemester 23/24 (Jänner)

LOCATION:TC.0.03

URL;VALUE=URI:https://karrierekit.welthandelsplatz.at/oeh-kurse/statistik-cbk-wintersemester-2324-janner

END:VEVENT
BEGIN:VEVENT
UID:f2f15588-dfa6-471c-a5f2-7b66073cfcbf@welthandelsplatz.at

SEQUENCE:0
STATUS:CONFIRMED
TRANSP:OPAQUE
CREATED:20260420T010638

DTSTAMP:20260420T010638

DTSTART;TZID=Europe/Vienna:20231213T164500

DTEND;TZID=Europe/Vienna:20231213T194500

SUMMARY:Statistik (CBK) WinterSemester 23/24 (Jänner)

LOCATION:TC.0.03

URL;VALUE=URI:https://karrierekit.welthandelsplatz.at/oeh-kurse/statistik-cbk-wintersemester-2324-janner

END:VEVENT
BEGIN:VEVENT
UID:5247ad12-86c0-47d0-a9e6-e85336b7c50f@welthandelsplatz.at

SEQUENCE:0
STATUS:CONFIRMED
TRANSP:OPAQUE
CREATED:20260420T010638

DTSTAMP:20260420T010638

DTSTART;TZID=Europe/Vienna:20240108T164500

DTEND;TZID=Europe/Vienna:20240108T194500

SUMMARY:Statistik (CBK) WinterSemester 23/24 (Jänner)

LOCATION:TC.0.02

URL;VALUE=URI:https://karrierekit.welthandelsplatz.at/oeh-kurse/statistik-cbk-wintersemester-2324-janner

END:VEVENT
BEGIN:VEVENT
UID:04dc5351-64f7-4f96-b472-f21bdc730ac0@welthandelsplatz.at

SEQUENCE:0
STATUS:CONFIRMED
TRANSP:OPAQUE
CREATED:20260420T010638

DTSTAMP:20260420T010638

DTSTART;TZID=Europe/Vienna:20240115T164500

DTEND;TZID=Europe/Vienna:20240115T194500

SUMMARY:Statistik (CBK) WinterSemester 23/24 (Jänner)

LOCATION:TC.0.01

URL;VALUE=URI:https://karrierekit.welthandelsplatz.at/oeh-kurse/statistik-cbk-wintersemester-2324-janner

END:VEVENT
BEGIN:VEVENT
UID:40c1c062-7eca-49fb-9135-08f2fe25ca35@welthandelsplatz.at

SEQUENCE:0
STATUS:CONFIRMED
TRANSP:OPAQUE
CREATED:20260420T010638

DTSTAMP:20260420T010638

DTSTART;TZID=Europe/Vienna:20240117T164500

DTEND;TZID=Europe/Vienna:20240117T194500

SUMMARY:Statistik (CBK) WinterSemester 23/24 (Jänner)

LOCATION:TC.0.01

URL;VALUE=URI:https://karrierekit.welthandelsplatz.at/oeh-kurse/statistik-cbk-wintersemester-2324-janner

END:VEVENT
END:VCALENDAR