BEGIN:VCALENDAR
VERSION:2.0
PRODID:-//hacksw/handcal//NONSGML v1.0//EN
CALSCALE:GREGORIAN
METHOD:PUBLISH
BEGIN:VTIMEZONE
TZID:Europe/Vienna
BEGIN:DAYLIGHT
TZOFFSETFROM:+0100
RRULE:FREQ=YEARLY;BYMONTH=3;BYDAY=-1SU
DTSTART:19810329T020000
TZNAME:MESZ
TZOFFSETTO:+0200
END:DAYLIGHT
BEGIN:STANDARD
TZOFFSETFROM:+0200
RRULE:FREQ=YEARLY;BYMONTH=10;BYDAY=-1SU
DTSTART:19961027T030000
TZNAME:MEZ
TZOFFSETTO:+0100
END:STANDARD
END:VTIMEZONE
BEGIN:VEVENT
UID:015548eb-88b0-4488-bab2-9b6d26360d2f@welthandelsplatz.at

SEQUENCE:0
STATUS:CONFIRMED
TRANSP:OPAQUE
CREATED:20260419T173810

DTSTAMP:20260419T173810

DTSTART;TZID=Europe/Vienna:20240212T140000

DTEND;TZID=Europe/Vienna:20240212T180000

SUMMARY:ÖH Kurs REWI Winteruni 2024

LOCATION:TC.4.03 Hörsaal 

URL;VALUE=URI:https://karrierekit.welthandelsplatz.at/oeh-kurse/oh-kurs-rewi-winteruni-2024

END:VEVENT
BEGIN:VEVENT
UID:dbe0247a-a1ad-46cd-b0e1-cff929b55aa7@welthandelsplatz.at

SEQUENCE:0
STATUS:CONFIRMED
TRANSP:OPAQUE
CREATED:20260419T173810

DTSTAMP:20260419T173810

DTSTART;TZID=Europe/Vienna:20240215T140000

DTEND;TZID=Europe/Vienna:20240215T180000

SUMMARY:ÖH Kurs REWI Winteruni 2024

LOCATION:TC.4.03 Hörsaal 

URL;VALUE=URI:https://karrierekit.welthandelsplatz.at/oeh-kurse/oh-kurs-rewi-winteruni-2024

END:VEVENT
BEGIN:VEVENT
UID:8c7712d6-47d8-4b19-bd7c-eafd4aa6a93e@welthandelsplatz.at

SEQUENCE:0
STATUS:CONFIRMED
TRANSP:OPAQUE
CREATED:20260419T173810

DTSTAMP:20260419T173810

DTSTART;TZID=Europe/Vienna:20240221T090000

DTEND;TZID=Europe/Vienna:20240221T130000

SUMMARY:ÖH Kurs REWI Winteruni 2024

LOCATION:TC.4.03 Hörsaal 

URL;VALUE=URI:https://karrierekit.welthandelsplatz.at/oeh-kurse/oh-kurs-rewi-winteruni-2024

END:VEVENT
BEGIN:VEVENT
UID:a176e50b-06f4-4df3-8684-d221955b91bf@welthandelsplatz.at

SEQUENCE:0
STATUS:CONFIRMED
TRANSP:OPAQUE
CREATED:20260419T173810

DTSTAMP:20260419T173810

DTSTART;TZID=Europe/Vienna:20240224T090000

DTEND;TZID=Europe/Vienna:20240224T130000

SUMMARY:ÖH Kurs REWI Winteruni 2024

LOCATION:TC.4.03 Hörsaal 

URL;VALUE=URI:https://karrierekit.welthandelsplatz.at/oeh-kurse/oh-kurs-rewi-winteruni-2024

END:VEVENT
BEGIN:VEVENT
UID:6e095899-2727-40c6-b584-db9b3319469d@welthandelsplatz.at

SEQUENCE:0
STATUS:CONFIRMED
TRANSP:OPAQUE
CREATED:20260419T173810

DTSTAMP:20260419T173810

DTSTART;TZID=Europe/Vienna:20240228T090000

DTEND;TZID=Europe/Vienna:20240228T130000

SUMMARY:ÖH Kurs REWI Winteruni 2024

LOCATION:TC.4.03 Hörsaal 

URL;VALUE=URI:https://karrierekit.welthandelsplatz.at/oeh-kurse/oh-kurs-rewi-winteruni-2024

END:VEVENT
BEGIN:VEVENT
UID:d7be5f2c-f198-4c75-87d0-a3b5d9094548@welthandelsplatz.at

SEQUENCE:0
STATUS:CONFIRMED
TRANSP:OPAQUE
CREATED:20260419T173810

DTSTAMP:20260419T173810

DTSTART;TZID=Europe/Vienna:20240301T090000

DTEND;TZID=Europe/Vienna:20240301T130000

SUMMARY:ÖH Kurs REWI Winteruni 2024

LOCATION:TC.4.03 Hörsaal 

URL;VALUE=URI:https://karrierekit.welthandelsplatz.at/oeh-kurse/oh-kurs-rewi-winteruni-2024

END:VEVENT
END:VCALENDAR