BEGIN:VCALENDAR
VERSION:2.0
PRODID:-//hacksw/handcal//NONSGML v1.0//EN
CALSCALE:GREGORIAN
METHOD:PUBLISH
BEGIN:VTIMEZONE
TZID:Europe/Vienna
BEGIN:DAYLIGHT
TZOFFSETFROM:+0100
RRULE:FREQ=YEARLY;BYMONTH=3;BYDAY=-1SU
DTSTART:19810329T020000
TZNAME:MESZ
TZOFFSETTO:+0200
END:DAYLIGHT
BEGIN:STANDARD
TZOFFSETFROM:+0200
RRULE:FREQ=YEARLY;BYMONTH=10;BYDAY=-1SU
DTSTART:19961027T030000
TZNAME:MEZ
TZOFFSETTO:+0100
END:STANDARD
END:VTIMEZONE
BEGIN:VEVENT
UID:2aae73e4-933f-47ff-9709-929914ec523e@welthandelsplatz.at

SEQUENCE:0
STATUS:CONFIRMED
TRANSP:OPAQUE
CREATED:20260419T142030

DTSTAMP:20260419T142030

DTSTART;TZID=Europe/Vienna:20231218T140000

DTEND;TZID=Europe/Vienna:20231218T180000

SUMMARY:ÖH Kurs REWI (STEOP WIRE) Dez/Jan WS 23/34

LOCATION:D5.0.001 Hörsaal 

URL;VALUE=URI:https://karrierekit.welthandelsplatz.at/oeh-kurse/oh-kurs-rewi-steop-wire-dezjan-ws-2334

END:VEVENT
BEGIN:VEVENT
UID:4f9ff2c6-d516-4215-a810-eb3e591b83ec@welthandelsplatz.at

SEQUENCE:0
STATUS:CONFIRMED
TRANSP:OPAQUE
CREATED:20260419T142030

DTSTAMP:20260419T142030

DTSTART;TZID=Europe/Vienna:20231220T130000

DTEND;TZID=Europe/Vienna:20231220T170000

SUMMARY:ÖH Kurs REWI (STEOP WIRE) Dez/Jan WS 23/34

LOCATION:TC.1.02 Hörsaal 

URL;VALUE=URI:https://karrierekit.welthandelsplatz.at/oeh-kurse/oh-kurs-rewi-steop-wire-dezjan-ws-2334

END:VEVENT
BEGIN:VEVENT
UID:ef0a78bd-d361-4f9f-a094-12e0664d9aee@welthandelsplatz.at

SEQUENCE:0
STATUS:CONFIRMED
TRANSP:OPAQUE
CREATED:20260419T142030

DTSTAMP:20260419T142030

DTSTART;TZID=Europe/Vienna:20240110T133000

DTEND;TZID=Europe/Vienna:20240110T173000

SUMMARY:ÖH Kurs REWI (STEOP WIRE) Dez/Jan WS 23/34

LOCATION:TC.2.02 Hörsaal 

URL;VALUE=URI:https://karrierekit.welthandelsplatz.at/oeh-kurse/oh-kurs-rewi-steop-wire-dezjan-ws-2334

END:VEVENT
BEGIN:VEVENT
UID:1bdae0e6-5051-48f8-b092-427db0662a5d@welthandelsplatz.at

SEQUENCE:0
STATUS:CONFIRMED
TRANSP:OPAQUE
CREATED:20260419T142030

DTSTAMP:20260419T142030

DTSTART;TZID=Europe/Vienna:20240120T090000

DTEND;TZID=Europe/Vienna:20240120T130000

SUMMARY:ÖH Kurs REWI (STEOP WIRE) Dez/Jan WS 23/34

LOCATION:TC.2.02 Hörsaal 

URL;VALUE=URI:https://karrierekit.welthandelsplatz.at/oeh-kurse/oh-kurs-rewi-steop-wire-dezjan-ws-2334

END:VEVENT
BEGIN:VEVENT
UID:2c8a24aa-2d09-4a98-bb71-d18bb13322ed@welthandelsplatz.at

SEQUENCE:0
STATUS:CONFIRMED
TRANSP:OPAQUE
CREATED:20260419T142030

DTSTAMP:20260419T142030

DTSTART;TZID=Europe/Vienna:20240122T133000

DTEND;TZID=Europe/Vienna:20240122T173000

SUMMARY:ÖH Kurs REWI (STEOP WIRE) Dez/Jan WS 23/34

LOCATION:TC.2.01 Hörsaal

URL;VALUE=URI:https://karrierekit.welthandelsplatz.at/oeh-kurse/oh-kurs-rewi-steop-wire-dezjan-ws-2334

END:VEVENT
BEGIN:VEVENT
UID:f9272882-75fe-45f6-b28d-c5a0d4f18ce1@welthandelsplatz.at

SEQUENCE:0
STATUS:CONFIRMED
TRANSP:OPAQUE
CREATED:20260419T142030

DTSTAMP:20260419T142030

DTSTART;TZID=Europe/Vienna:20240124T133000

DTEND;TZID=Europe/Vienna:20240124T173000

SUMMARY:ÖH Kurs REWI (STEOP WIRE) Dez/Jan WS 23/34

LOCATION:TC.2.01 Hörsaal

URL;VALUE=URI:https://karrierekit.welthandelsplatz.at/oeh-kurse/oh-kurs-rewi-steop-wire-dezjan-ws-2334

END:VEVENT
END:VCALENDAR