BEGIN:VCALENDAR
VERSION:2.0
PRODID:-//hacksw/handcal//NONSGML v1.0//EN
CALSCALE:GREGORIAN
METHOD:PUBLISH
BEGIN:VTIMEZONE
TZID:Europe/Vienna
BEGIN:DAYLIGHT
TZOFFSETFROM:+0100
RRULE:FREQ=YEARLY;BYMONTH=3;BYDAY=-1SU
DTSTART:19810329T020000
TZNAME:MESZ
TZOFFSETTO:+0200
END:DAYLIGHT
BEGIN:STANDARD
TZOFFSETFROM:+0200
RRULE:FREQ=YEARLY;BYMONTH=10;BYDAY=-1SU
DTSTART:19961027T030000
TZNAME:MEZ
TZOFFSETTO:+0100
END:STANDARD
END:VTIMEZONE
BEGIN:VEVENT
UID:bf296b90-1700-42fe-ba6b-88a251cd417a@welthandelsplatz.at

SEQUENCE:0
STATUS:CONFIRMED
TRANSP:OPAQUE
CREATED:20260419T141104

DTSTAMP:20260419T141104

DTSTART;TZID=Europe/Vienna:20240213T090000

DTEND;TZID=Europe/Vienna:20240213T130000

SUMMARY:Grundlagen des Zivilrechts Winteruni 2024

LOCATION:TC.1.01 OeNB Hörsaal 

URL;VALUE=URI:https://karrierekit.welthandelsplatz.at/oeh-kurse/grundlagen-des-zivilrechts-winteruni-2024

END:VEVENT
BEGIN:VEVENT
UID:4cfb4bb1-feb3-48af-8449-46348ffe4678@welthandelsplatz.at

SEQUENCE:0
STATUS:CONFIRMED
TRANSP:OPAQUE
CREATED:20260419T141104

DTSTAMP:20260419T141104

DTSTART;TZID=Europe/Vienna:20240220T090000

DTEND;TZID=Europe/Vienna:20240220T130000

SUMMARY:Grundlagen des Zivilrechts Winteruni 2024

LOCATION:TC.1.01 OeNB Hörsaal 

URL;VALUE=URI:https://karrierekit.welthandelsplatz.at/oeh-kurse/grundlagen-des-zivilrechts-winteruni-2024

END:VEVENT
BEGIN:VEVENT
UID:b0d01f41-d2a2-443e-9714-285c409bbc5d@welthandelsplatz.at

SEQUENCE:0
STATUS:CONFIRMED
TRANSP:OPAQUE
CREATED:20260419T141104

DTSTAMP:20260419T141104

DTSTART;TZID=Europe/Vienna:20240222T090000

DTEND;TZID=Europe/Vienna:20240222T130000

SUMMARY:Grundlagen des Zivilrechts Winteruni 2024

LOCATION:TC.1.01 OeNB Hörsaal 

URL;VALUE=URI:https://karrierekit.welthandelsplatz.at/oeh-kurse/grundlagen-des-zivilrechts-winteruni-2024

END:VEVENT
BEGIN:VEVENT
UID:f56b3d21-03af-4322-b88f-63f0814111ee@welthandelsplatz.at

SEQUENCE:0
STATUS:CONFIRMED
TRANSP:OPAQUE
CREATED:20260419T141104

DTSTAMP:20260419T141104

DTSTART;TZID=Europe/Vienna:20240223T090000

DTEND;TZID=Europe/Vienna:20240223T130000

SUMMARY:Grundlagen des Zivilrechts Winteruni 2024

LOCATION:TC.1.01 OeNB Hörsaal 

URL;VALUE=URI:https://karrierekit.welthandelsplatz.at/oeh-kurse/grundlagen-des-zivilrechts-winteruni-2024

END:VEVENT
BEGIN:VEVENT
UID:89d5aa9b-14f1-47d2-a97e-5079d46ad283@welthandelsplatz.at

SEQUENCE:0
STATUS:CONFIRMED
TRANSP:OPAQUE
CREATED:20260419T141104

DTSTAMP:20260419T141104

DTSTART;TZID=Europe/Vienna:20240226T090000

DTEND;TZID=Europe/Vienna:20240226T130000

SUMMARY:Grundlagen des Zivilrechts Winteruni 2024

LOCATION:TC.1.01 OeNB Hörsaal 

URL;VALUE=URI:https://karrierekit.welthandelsplatz.at/oeh-kurse/grundlagen-des-zivilrechts-winteruni-2024

END:VEVENT
BEGIN:VEVENT
UID:d6eac2d6-6340-4b99-a6dd-e2643a89ae43@welthandelsplatz.at

SEQUENCE:0
STATUS:CONFIRMED
TRANSP:OPAQUE
CREATED:20260419T141104

DTSTAMP:20260419T141104

DTSTART;TZID=Europe/Vienna:20240227T140000

DTEND;TZID=Europe/Vienna:20240227T180000

SUMMARY:Grundlagen des Zivilrechts Winteruni 2024

LOCATION:TC2.01 

URL;VALUE=URI:https://karrierekit.welthandelsplatz.at/oeh-kurse/grundlagen-des-zivilrechts-winteruni-2024

END:VEVENT
END:VCALENDAR