BEGIN:VCALENDAR
VERSION:2.0
PRODID:-//hacksw/handcal//NONSGML v1.0//EN
CALSCALE:GREGORIAN
METHOD:PUBLISH
BEGIN:VTIMEZONE
TZID:Europe/Vienna
BEGIN:DAYLIGHT
TZOFFSETFROM:+0100
RRULE:FREQ=YEARLY;BYMONTH=3;BYDAY=-1SU
DTSTART:19810329T020000
TZNAME:MESZ
TZOFFSETTO:+0200
END:DAYLIGHT
BEGIN:STANDARD
TZOFFSETFROM:+0200
RRULE:FREQ=YEARLY;BYMONTH=10;BYDAY=-1SU
DTSTART:19961027T030000
TZNAME:MEZ
TZOFFSETTO:+0100
END:STANDARD
END:VTIMEZONE
BEGIN:VEVENT
UID:873c8da1-6938-4eeb-bbac-40dd24042b7c@welthandelsplatz.at

SEQUENCE:0
STATUS:CONFIRMED
TRANSP:OPAQUE
CREATED:20260419T151440

DTSTAMP:20260419T151440

DTSTART;TZID=Europe/Vienna:20240321T133000

DTEND;TZID=Europe/Vienna:20240321T173000

SUMMARY:Grundlagen des Zivilrechts März/April

LOCATION:TC.1.02 Hörsaal 

URL;VALUE=URI:https://karrierekit.welthandelsplatz.at/oeh-kurse/grundlagen-des-zivilrechts-marzapril

END:VEVENT
BEGIN:VEVENT
UID:bf328bcc-843b-4f80-b527-ba806d9cae65@welthandelsplatz.at

SEQUENCE:0
STATUS:CONFIRMED
TRANSP:OPAQUE
CREATED:20260419T151440

DTSTAMP:20260419T151440

DTSTART;TZID=Europe/Vienna:20240413T090000

DTEND;TZID=Europe/Vienna:20240413T130000

SUMMARY:Grundlagen des Zivilrechts März/April

LOCATION:TC.2.02 Hörsaal 

URL;VALUE=URI:https://karrierekit.welthandelsplatz.at/oeh-kurse/grundlagen-des-zivilrechts-marzapril

END:VEVENT
BEGIN:VEVENT
UID:cb4bda04-24b3-4f45-b19b-194ffa69f07d@welthandelsplatz.at

SEQUENCE:0
STATUS:CONFIRMED
TRANSP:OPAQUE
CREATED:20260419T151440

DTSTAMP:20260419T151440

DTSTART;TZID=Europe/Vienna:20240420T090000

DTEND;TZID=Europe/Vienna:20240420T130000

SUMMARY:Grundlagen des Zivilrechts März/April

LOCATION:TC.2.02 Hörsaal 

URL;VALUE=URI:https://karrierekit.welthandelsplatz.at/oeh-kurse/grundlagen-des-zivilrechts-marzapril

END:VEVENT
BEGIN:VEVENT
UID:836efe06-d50a-488f-a31f-bf225fd08ccb@welthandelsplatz.at

SEQUENCE:0
STATUS:CONFIRMED
TRANSP:OPAQUE
CREATED:20260419T151440

DTSTAMP:20260419T151440

DTSTART;TZID=Europe/Vienna:20240425T090000

DTEND;TZID=Europe/Vienna:20240425T130000

SUMMARY:Grundlagen des Zivilrechts März/April

LOCATION:D5.0.001 Hörsaal 

URL;VALUE=URI:https://karrierekit.welthandelsplatz.at/oeh-kurse/grundlagen-des-zivilrechts-marzapril

END:VEVENT
BEGIN:VEVENT
UID:f7e97a1f-fd9b-4765-87e8-ab61b665df24@welthandelsplatz.at

SEQUENCE:0
STATUS:CONFIRMED
TRANSP:OPAQUE
CREATED:20260419T151440

DTSTAMP:20260419T151440

DTSTART;TZID=Europe/Vienna:20240427T090000

DTEND;TZID=Europe/Vienna:20240427T130000

SUMMARY:Grundlagen des Zivilrechts März/April

LOCATION:TC.2.02 Hörsaal 

URL;VALUE=URI:https://karrierekit.welthandelsplatz.at/oeh-kurse/grundlagen-des-zivilrechts-marzapril

END:VEVENT
BEGIN:VEVENT
UID:f9d6bbea-53d5-41b6-ad1c-f264c83130e7@welthandelsplatz.at

SEQUENCE:0
STATUS:CONFIRMED
TRANSP:OPAQUE
CREATED:20260419T151440

DTSTAMP:20260419T151440

DTSTART;TZID=Europe/Vienna:20240429T090000

DTEND;TZID=Europe/Vienna:20240429T130000

SUMMARY:Grundlagen des Zivilrechts März/April

LOCATION:TC.2.02 Hörsaal 

URL;VALUE=URI:https://karrierekit.welthandelsplatz.at/oeh-kurse/grundlagen-des-zivilrechts-marzapril

END:VEVENT
END:VCALENDAR