BEGIN:VCALENDAR
VERSION:2.0
PRODID:-//hacksw/handcal//NONSGML v1.0//EN
CALSCALE:GREGORIAN
METHOD:PUBLISH
BEGIN:VTIMEZONE
TZID:Europe/Vienna
BEGIN:DAYLIGHT
TZOFFSETFROM:+0100
RRULE:FREQ=YEARLY;BYMONTH=3;BYDAY=-1SU
DTSTART:19810329T020000
TZNAME:MESZ
TZOFFSETTO:+0200
END:DAYLIGHT
BEGIN:STANDARD
TZOFFSETFROM:+0200
RRULE:FREQ=YEARLY;BYMONTH=10;BYDAY=-1SU
DTSTART:19961027T030000
TZNAME:MEZ
TZOFFSETTO:+0100
END:STANDARD
END:VTIMEZONE
BEGIN:VEVENT
UID:737f3a11-f861-40b3-a0c9-dafb5cfb44b0@welthandelsplatz.at

SEQUENCE:0
STATUS:CONFIRMED
TRANSP:OPAQUE
CREATED:20260419T142122

DTSTAMP:20260419T142122

DTSTART;TZID=Europe/Vienna:20240517T170000

DTEND;TZID=Europe/Vienna:20240517T213000

SUMMARY:Finanzwirtschaft 2. Halbsemester (Mai/Juni 2024)

LOCATION:WU Wien\, 1020 Wien\, Welthandelsplatz 1\, Teaching Center\, Hörsaal TC 0.02

URL;VALUE=URI:https://karrierekit.welthandelsplatz.at/oeh-kurse/finanzwirtschaft-2-halbsemester-maijuni-2024

END:VEVENT
BEGIN:VEVENT
UID:099bb546-8273-4d66-b32e-985bbf954991@welthandelsplatz.at

SEQUENCE:0
STATUS:CONFIRMED
TRANSP:OPAQUE
CREATED:20260419T142122

DTSTAMP:20260419T142122

DTSTART;TZID=Europe/Vienna:20240518T130000

DTEND;TZID=Europe/Vienna:20240518T173000

SUMMARY:Finanzwirtschaft 2. Halbsemester (Mai/Juni 2024)

LOCATION:WU Wien\, 1020 Wien\, Welthandelsplatz 1\, Teaching Center\, Hörsaal TC 0.02

URL;VALUE=URI:https://karrierekit.welthandelsplatz.at/oeh-kurse/finanzwirtschaft-2-halbsemester-maijuni-2024

END:VEVENT
BEGIN:VEVENT
UID:b1940c97-c36c-4369-a162-b314cef8d09b@welthandelsplatz.at

SEQUENCE:0
STATUS:CONFIRMED
TRANSP:OPAQUE
CREATED:20260419T142122

DTSTAMP:20260419T142122

DTSTART;TZID=Europe/Vienna:20240524T163000

DTEND;TZID=Europe/Vienna:20240524T210000

SUMMARY:Finanzwirtschaft 2. Halbsemester (Mai/Juni 2024)

LOCATION:WU Wien\, 1020 Wien\, Welthandelsplatz 1\, Teaching Center\, Hörsaal TC 0.03

URL;VALUE=URI:https://karrierekit.welthandelsplatz.at/oeh-kurse/finanzwirtschaft-2-halbsemester-maijuni-2024

END:VEVENT
BEGIN:VEVENT
UID:645abfed-3889-4a51-ab5a-237e76210d43@welthandelsplatz.at

SEQUENCE:0
STATUS:CONFIRMED
TRANSP:OPAQUE
CREATED:20260419T142122

DTSTAMP:20260419T142122

DTSTART;TZID=Europe/Vienna:20240604T160000

DTEND;TZID=Europe/Vienna:20240604T203000

SUMMARY:Finanzwirtschaft 2. Halbsemester (Mai/Juni 2024)

LOCATION:WU Wien\, 1020 Wien\, Welthandelsplatz 1\, Teaching Center\, Hörsaal TC 0.01

URL;VALUE=URI:https://karrierekit.welthandelsplatz.at/oeh-kurse/finanzwirtschaft-2-halbsemester-maijuni-2024

END:VEVENT
BEGIN:VEVENT
UID:c08149ce-f925-406c-b7b0-cd70f84b11ca@welthandelsplatz.at

SEQUENCE:0
STATUS:CONFIRMED
TRANSP:OPAQUE
CREATED:20260419T142122

DTSTAMP:20260419T142122

DTSTART;TZID=Europe/Vienna:20240607T163000

DTEND;TZID=Europe/Vienna:20240607T210000

SUMMARY:Finanzwirtschaft 2. Halbsemester (Mai/Juni 2024)

LOCATION:WU Wien\, 1020 Wien\, Welthandelsplatz 1\, Teaching Center\, Hörsaal TC 0.03

URL;VALUE=URI:https://karrierekit.welthandelsplatz.at/oeh-kurse/finanzwirtschaft-2-halbsemester-maijuni-2024

END:VEVENT
BEGIN:VEVENT
UID:35443742-9f0f-4c5f-8929-53db61ad2cfb@welthandelsplatz.at

SEQUENCE:0
STATUS:CONFIRMED
TRANSP:OPAQUE
CREATED:20260419T142122

DTSTAMP:20260419T142122

DTSTART;TZID=Europe/Vienna:20240608T090000

DTEND;TZID=Europe/Vienna:20240608T133000

SUMMARY:Finanzwirtschaft 2. Halbsemester (Mai/Juni 2024)

LOCATION:WU Wien\, 1020 Wien\, Welthandelsplatz 1\, Teaching Center\, Hörsaal TC 0.03

URL;VALUE=URI:https://karrierekit.welthandelsplatz.at/oeh-kurse/finanzwirtschaft-2-halbsemester-maijuni-2024

END:VEVENT
END:VCALENDAR