BEGIN:VCALENDAR
VERSION:2.0
PRODID:-//hacksw/handcal//NONSGML v1.0//EN
CALSCALE:GREGORIAN
METHOD:PUBLISH
BEGIN:VTIMEZONE
TZID:Europe/Vienna
BEGIN:DAYLIGHT
TZOFFSETFROM:+0100
RRULE:FREQ=YEARLY;BYMONTH=3;BYDAY=-1SU
DTSTART:19810329T020000
TZNAME:MESZ
TZOFFSETTO:+0200
END:DAYLIGHT
BEGIN:STANDARD
TZOFFSETFROM:+0200
RRULE:FREQ=YEARLY;BYMONTH=10;BYDAY=-1SU
DTSTART:19961027T030000
TZNAME:MEZ
TZOFFSETTO:+0100
END:STANDARD
END:VTIMEZONE
BEGIN:VEVENT
UID:7834c180-4abb-4354-9e8f-b136ef3fc27c@welthandelsplatz.at

SEQUENCE:0
STATUS:CONFIRMED
TRANSP:OPAQUE
CREATED:20260419T142045

DTSTAMP:20260419T142045

DTSTART;TZID=Europe/Vienna:20240315T170000

DTEND;TZID=Europe/Vienna:20240315T213000

SUMMARY:Finanzwirtschaft 1. Halbsemester (März/April 2024)

LOCATION:WU Wien\, 1020 Wien\, Welthandelsplatz 1\, Teaching Center\, Hörsaal TC 0.02

URL;VALUE=URI:https://karrierekit.welthandelsplatz.at/oeh-kurse/finanzwirtschaft-1-halbsemester-marzapril-2024

END:VEVENT
BEGIN:VEVENT
UID:9b524e5f-5ac1-4ab2-acad-bc145f491146@welthandelsplatz.at

SEQUENCE:0
STATUS:CONFIRMED
TRANSP:OPAQUE
CREATED:20260419T142045

DTSTAMP:20260419T142045

DTSTART;TZID=Europe/Vienna:20240322T170000

DTEND;TZID=Europe/Vienna:20240322T213000

SUMMARY:Finanzwirtschaft 1. Halbsemester (März/April 2024)

LOCATION:WU Wien\, 1020 Wien\, Welthandelsplatz 1\, Teaching Center\, Hörsaal TC 0.02

URL;VALUE=URI:https://karrierekit.welthandelsplatz.at/oeh-kurse/finanzwirtschaft-1-halbsemester-marzapril-2024

END:VEVENT
BEGIN:VEVENT
UID:747a6edc-78d0-4971-a52e-7b6e1bc3eada@welthandelsplatz.at

SEQUENCE:0
STATUS:CONFIRMED
TRANSP:OPAQUE
CREATED:20260419T142045

DTSTAMP:20260419T142045

DTSTART;TZID=Europe/Vienna:20240412T170000

DTEND;TZID=Europe/Vienna:20240412T213000

SUMMARY:Finanzwirtschaft 1. Halbsemester (März/April 2024)

LOCATION:WU Wien\, 1020 Wien\, Welthandelsplatz 1\, Teaching Center\, Hörsaal TC 0.02

URL;VALUE=URI:https://karrierekit.welthandelsplatz.at/oeh-kurse/finanzwirtschaft-1-halbsemester-marzapril-2024

END:VEVENT
BEGIN:VEVENT
UID:380e4e78-a0e8-4676-ad11-edfd95d9636b@welthandelsplatz.at

SEQUENCE:0
STATUS:CONFIRMED
TRANSP:OPAQUE
CREATED:20260419T142045

DTSTAMP:20260419T142045

DTSTART;TZID=Europe/Vienna:20240413T130000

DTEND;TZID=Europe/Vienna:20240413T173000

SUMMARY:Finanzwirtschaft 1. Halbsemester (März/April 2024)

LOCATION:WU Wien\, 1020 Wien\, Welthandelsplatz 1\, Teaching Center\, Hörsaal TC 0.02

URL;VALUE=URI:https://karrierekit.welthandelsplatz.at/oeh-kurse/finanzwirtschaft-1-halbsemester-marzapril-2024

END:VEVENT
BEGIN:VEVENT
UID:6a514e77-a1d1-4895-8e07-2b5c78a271f6@welthandelsplatz.at

SEQUENCE:0
STATUS:CONFIRMED
TRANSP:OPAQUE
CREATED:20260419T142045

DTSTAMP:20260419T142045

DTSTART;TZID=Europe/Vienna:20240419T170000

DTEND;TZID=Europe/Vienna:20240419T213000

SUMMARY:Finanzwirtschaft 1. Halbsemester (März/April 2024)

LOCATION:WU Wien\, 1020 Wien\, Welthandelsplatz 1\, Teaching Center\, Hörsaal TC 0.02

URL;VALUE=URI:https://karrierekit.welthandelsplatz.at/oeh-kurse/finanzwirtschaft-1-halbsemester-marzapril-2024

END:VEVENT
BEGIN:VEVENT
UID:fca6bca6-848b-49ad-9070-fa2e37c31090@welthandelsplatz.at

SEQUENCE:0
STATUS:CONFIRMED
TRANSP:OPAQUE
CREATED:20260419T142045

DTSTAMP:20260419T142045

DTSTART;TZID=Europe/Vienna:20240420T130000

DTEND;TZID=Europe/Vienna:20240420T173000

SUMMARY:Finanzwirtschaft 1. Halbsemester (März/April 2024)

LOCATION:WU Wien\, 1020 Wien\, Welthandelsplatz 1\, Teaching Center\, Hörsaal TC 0.01

URL;VALUE=URI:https://karrierekit.welthandelsplatz.at/oeh-kurse/finanzwirtschaft-1-halbsemester-marzapril-2024

END:VEVENT
END:VCALENDAR