BEGIN:VCALENDAR
VERSION:2.0
PRODID:-//hacksw/handcal//NONSGML v1.0//EN
CALSCALE:GREGORIAN
METHOD:PUBLISH
BEGIN:VTIMEZONE
TZID:Europe/Vienna
BEGIN:DAYLIGHT
TZOFFSETFROM:+0100
RRULE:FREQ=YEARLY;BYMONTH=3;BYDAY=-1SU
DTSTART:19810329T020000
TZNAME:MESZ
TZOFFSETTO:+0200
END:DAYLIGHT
BEGIN:STANDARD
TZOFFSETFROM:+0200
RRULE:FREQ=YEARLY;BYMONTH=10;BYDAY=-1SU
DTSTART:19961027T030000
TZNAME:MEZ
TZOFFSETTO:+0100
END:STANDARD
END:VTIMEZONE
BEGIN:VEVENT
UID:2e420fd5-0e0a-470e-bad6-0efb22328fe6@welthandelsplatz.at

SEQUENCE:0
STATUS:CONFIRMED
TRANSP:OPAQUE
CREATED:20260419T141037

DTSTAMP:20260419T141037

DTSTART;TZID=Europe/Vienna:20231206T170000

DTEND;TZID=Europe/Vienna:20231206T213000

SUMMARY:Finanzierung 2. Halbsemester (Dezember 2023/Jänner 2024)

LOCATION:WU Wien\, 1020 Wien\, Welthandelsplatz 1 \, Teaching Center\, TC.2.01

URL;VALUE=URI:https://karrierekit.welthandelsplatz.at/oeh-kurse/finanzierung-2-halbsemester-dezember-2023janner-2024

END:VEVENT
BEGIN:VEVENT
UID:9875885f-571b-42bc-935a-81e1943d34df@welthandelsplatz.at

SEQUENCE:0
STATUS:CONFIRMED
TRANSP:OPAQUE
CREATED:20260419T141037

DTSTAMP:20260419T141037

DTSTART;TZID=Europe/Vienna:20231209T080000

DTEND;TZID=Europe/Vienna:20231209T123000

SUMMARY:Finanzierung 2. Halbsemester (Dezember 2023/Jänner 2024)

LOCATION:WU Wien\, 1020 Wien\, Welthandelsplatz 1 \, Teaching Center\, TC.3.21 

URL;VALUE=URI:https://karrierekit.welthandelsplatz.at/oeh-kurse/finanzierung-2-halbsemester-dezember-2023janner-2024

END:VEVENT
BEGIN:VEVENT
UID:b7f6f53a-4648-41b8-8145-d37a3cb53ca5@welthandelsplatz.at

SEQUENCE:0
STATUS:CONFIRMED
TRANSP:OPAQUE
CREATED:20260419T141037

DTSTAMP:20260419T141037

DTSTART;TZID=Europe/Vienna:20231212T133000

DTEND;TZID=Europe/Vienna:20231212T180000

SUMMARY:Finanzierung 2. Halbsemester (Dezember 2023/Jänner 2024)

LOCATION:WU Wien\, 1020 Wien\, Welthandelsplatz 1 \, Teaching Center\, TC.2.02

URL;VALUE=URI:https://karrierekit.welthandelsplatz.at/oeh-kurse/finanzierung-2-halbsemester-dezember-2023janner-2024

END:VEVENT
BEGIN:VEVENT
UID:5cc5ab52-cc9b-4d18-8da0-4108d4694a29@welthandelsplatz.at

SEQUENCE:0
STATUS:CONFIRMED
TRANSP:OPAQUE
CREATED:20260419T141037

DTSTAMP:20260419T141037

DTSTART;TZID=Europe/Vienna:20240115T133000

DTEND;TZID=Europe/Vienna:20240115T180000

SUMMARY:Finanzierung 2. Halbsemester (Dezember 2023/Jänner 2024)

LOCATION:WU Wien\, 1020 Wien\, Welthandelsplatz 1 \, Teaching Center\, TC.3.03

URL;VALUE=URI:https://karrierekit.welthandelsplatz.at/oeh-kurse/finanzierung-2-halbsemester-dezember-2023janner-2024

END:VEVENT
BEGIN:VEVENT
UID:d8bf8278-ae9e-4731-ae61-234d7b004b95@welthandelsplatz.at

SEQUENCE:0
STATUS:CONFIRMED
TRANSP:OPAQUE
CREATED:20260419T141037

DTSTAMP:20260419T141037

DTSTART;TZID=Europe/Vienna:20240119T160000

DTEND;TZID=Europe/Vienna:20240119T213000

SUMMARY:Finanzierung 2. Halbsemester (Dezember 2023/Jänner 2024)

LOCATION:WU Wien\, 1020 Wien\, Welthandelsplatz 1 \, Teaching Center\, TC.3.03

URL;VALUE=URI:https://karrierekit.welthandelsplatz.at/oeh-kurse/finanzierung-2-halbsemester-dezember-2023janner-2024

END:VEVENT
BEGIN:VEVENT
UID:161ab0dc-0a34-4153-998a-28fe18ae5942@welthandelsplatz.at

SEQUENCE:0
STATUS:CONFIRMED
TRANSP:OPAQUE
CREATED:20260419T141037

DTSTAMP:20260419T141037

DTSTART;TZID=Europe/Vienna:20240120T090000

DTEND;TZID=Europe/Vienna:20240120T133000

SUMMARY:Finanzierung 2. Halbsemester (Dezember 2023/Jänner 2024)

LOCATION:WU Wien\, 1020 Wien\, Welthandelsplatz 1 \, Teaching Center\, TC.3.03

URL;VALUE=URI:https://karrierekit.welthandelsplatz.at/oeh-kurse/finanzierung-2-halbsemester-dezember-2023janner-2024

END:VEVENT
END:VCALENDAR