BEGIN:VCALENDAR
VERSION:2.0
PRODID:-//hacksw/handcal//NONSGML v1.0//EN
CALSCALE:GREGORIAN
METHOD:PUBLISH
BEGIN:VTIMEZONE
TZID:Europe/Vienna
BEGIN:DAYLIGHT
TZOFFSETFROM:+0100
RRULE:FREQ=YEARLY;BYMONTH=3;BYDAY=-1SU
DTSTART:19810329T020000
TZNAME:MESZ
TZOFFSETTO:+0200
END:DAYLIGHT
BEGIN:STANDARD
TZOFFSETFROM:+0200
RRULE:FREQ=YEARLY;BYMONTH=10;BYDAY=-1SU
DTSTART:19961027T030000
TZNAME:MEZ
TZOFFSETTO:+0100
END:STANDARD
END:VTIMEZONE
BEGIN:VEVENT
UID:139f628b-fc46-4c08-b666-d26849165969@welthandelsplatz.at

SEQUENCE:0
STATUS:CONFIRMED
TRANSP:OPAQUE
CREATED:20260419T193148

DTSTAMP:20260419T193148

DTSTART;TZID=Europe/Vienna:20231013T133000

DTEND;TZID=Europe/Vienna:20231013T193000

SUMMARY:Finanzierung 1. Halbsemester (Oktober/November 2023)

LOCATION:WU Wien\, 1020 Wien\, Welthandelsplatz 1 \, Teaching Center\, TC.0.03

URL;VALUE=URI:https://karrierekit.welthandelsplatz.at/oeh-kurse/finanzierung-1-halbsemester-oktobernovember-2023

END:VEVENT
BEGIN:VEVENT
UID:314dfdec-943d-4926-b9e7-f7dd36a57335@welthandelsplatz.at

SEQUENCE:0
STATUS:CONFIRMED
TRANSP:OPAQUE
CREATED:20260419T193148

DTSTAMP:20260419T193148

DTSTART;TZID=Europe/Vienna:20231014T130000

DTEND;TZID=Europe/Vienna:20231014T173000

SUMMARY:Finanzierung 1. Halbsemester (Oktober/November 2023)

LOCATION:WU Wien\, 1020 Wien\, Welthandelsplatz 1 \, Teaching Center\, TC.0.02 

URL;VALUE=URI:https://karrierekit.welthandelsplatz.at/oeh-kurse/finanzierung-1-halbsemester-oktobernovember-2023

END:VEVENT
BEGIN:VEVENT
UID:a6912920-6257-46b5-99c4-6ba73fb3c307@welthandelsplatz.at

SEQUENCE:0
STATUS:CONFIRMED
TRANSP:OPAQUE
CREATED:20260419T193148

DTSTAMP:20260419T193148

DTSTART;TZID=Europe/Vienna:20231018T140000

DTEND;TZID=Europe/Vienna:20231018T183000

SUMMARY:Finanzierung 1. Halbsemester (Oktober/November 2023)

LOCATION:WU Wien\, 1020 Wien\, Welthandelsplatz 1 \, Teaching Center\, TC.3.21 

URL;VALUE=URI:https://karrierekit.welthandelsplatz.at/oeh-kurse/finanzierung-1-halbsemester-oktobernovember-2023

END:VEVENT
BEGIN:VEVENT
UID:dd341737-e145-4d47-8076-6c32782bbb26@welthandelsplatz.at

SEQUENCE:0
STATUS:CONFIRMED
TRANSP:OPAQUE
CREATED:20260419T193148

DTSTAMP:20260419T193148

DTSTART;TZID=Europe/Vienna:20231110T120000

DTEND;TZID=Europe/Vienna:20231110T163000

SUMMARY:Finanzierung 1. Halbsemester (Oktober/November 2023)

LOCATION:WU Wien\, 1020 Wien\, Welthandelsplatz 1 \, Teaching Center\, TC.0.04 

URL;VALUE=URI:https://karrierekit.welthandelsplatz.at/oeh-kurse/finanzierung-1-halbsemester-oktobernovember-2023

END:VEVENT
BEGIN:VEVENT
UID:b3393cb5-97ae-4320-8853-2b23238974fc@welthandelsplatz.at

SEQUENCE:0
STATUS:CONFIRMED
TRANSP:OPAQUE
CREATED:20260419T193148

DTSTAMP:20260419T193148

DTSTART;TZID=Europe/Vienna:20231118T130000

DTEND;TZID=Europe/Vienna:20231118T173000

SUMMARY:Finanzierung 1. Halbsemester (Oktober/November 2023)

LOCATION:WU Wien\, 1020 Wien\, Welthandelsplatz 1 \, Teaching Center\, TC.0.04 

URL;VALUE=URI:https://karrierekit.welthandelsplatz.at/oeh-kurse/finanzierung-1-halbsemester-oktobernovember-2023

END:VEVENT
END:VCALENDAR