BEGIN:VCALENDAR
VERSION:2.0
PRODID:-//hacksw/handcal//NONSGML v1.0//EN
CALSCALE:GREGORIAN
METHOD:PUBLISH
BEGIN:VTIMEZONE
TZID:Europe/Vienna
BEGIN:DAYLIGHT
TZOFFSETFROM:+0100
RRULE:FREQ=YEARLY;BYMONTH=3;BYDAY=-1SU
DTSTART:19810329T020000
TZNAME:MESZ
TZOFFSETTO:+0200
END:DAYLIGHT
BEGIN:STANDARD
TZOFFSETFROM:+0200
RRULE:FREQ=YEARLY;BYMONTH=10;BYDAY=-1SU
DTSTART:19961027T030000
TZNAME:MEZ
TZOFFSETTO:+0100
END:STANDARD
END:VTIMEZONE
BEGIN:VEVENT
UID:9a928ddb-6823-462c-a209-ec7f6790df75@welthandelsplatz.at

SEQUENCE:0
STATUS:CONFIRMED
TRANSP:OPAQUE
CREATED:20260419T142023

DTSTAMP:20260419T142023

DTSTART;TZID=Europe/Vienna:20240517T100000

DTEND;TZID=Europe/Vienna:20240517T120000

SUMMARY:BBE Entrance Exam

LOCATION:TC.3.12 Seminarraum

URL;VALUE=URI:https://karrierekit.welthandelsplatz.at/oeh-kurse/bbe-entrance-exam

END:VEVENT
BEGIN:VEVENT
UID:01ad14ea-3117-458e-926b-d638ef4440fc@welthandelsplatz.at

SEQUENCE:0
STATUS:CONFIRMED
TRANSP:OPAQUE
CREATED:20260419T142023

DTSTAMP:20260419T142023

DTSTART;TZID=Europe/Vienna:20240521T100000

DTEND;TZID=Europe/Vienna:20240521T120000

SUMMARY:BBE Entrance Exam

LOCATION:TC.3.09 Seminarraum

URL;VALUE=URI:https://karrierekit.welthandelsplatz.at/oeh-kurse/bbe-entrance-exam

END:VEVENT
BEGIN:VEVENT
UID:5ad4e8f6-e682-4891-a830-ba27dc095924@welthandelsplatz.at

SEQUENCE:0
STATUS:CONFIRMED
TRANSP:OPAQUE
CREATED:20260419T142023

DTSTAMP:20260419T142023

DTSTART;TZID=Europe/Vienna:20240524T110000

DTEND;TZID=Europe/Vienna:20240524T130000

SUMMARY:BBE Entrance Exam

LOCATION:TC.3.10 Seminarraum

URL;VALUE=URI:https://karrierekit.welthandelsplatz.at/oeh-kurse/bbe-entrance-exam

END:VEVENT
BEGIN:VEVENT
UID:b440f54f-da5e-4071-9ad6-e09cdc85c48a@welthandelsplatz.at

SEQUENCE:0
STATUS:CONFIRMED
TRANSP:OPAQUE
CREATED:20260419T142023

DTSTAMP:20260419T142023

DTSTART;TZID=Europe/Vienna:20240527T130000

DTEND;TZID=Europe/Vienna:20240527T150000

SUMMARY:BBE Entrance Exam

LOCATION:TC.3.12 Seminarraum

URL;VALUE=URI:https://karrierekit.welthandelsplatz.at/oeh-kurse/bbe-entrance-exam

END:VEVENT
BEGIN:VEVENT
UID:12a3d61d-bc5c-4f04-b9b0-c6f7f8c04a04@welthandelsplatz.at

SEQUENCE:0
STATUS:CONFIRMED
TRANSP:OPAQUE
CREATED:20260419T142023

DTSTAMP:20260419T142023

DTSTART;TZID=Europe/Vienna:20240531T100000

DTEND;TZID=Europe/Vienna:20240531T120000

SUMMARY:BBE Entrance Exam

LOCATION:TC.3.08 Seminarraum

URL;VALUE=URI:https://karrierekit.welthandelsplatz.at/oeh-kurse/bbe-entrance-exam

END:VEVENT
BEGIN:VEVENT
UID:2066ddac-a25f-4a21-b7e6-4fc8afda754a@welthandelsplatz.at

SEQUENCE:0
STATUS:CONFIRMED
TRANSP:OPAQUE
CREATED:20260419T142023

DTSTAMP:20260419T142023

DTSTART;TZID=Europe/Vienna:20240603T100000

DTEND;TZID=Europe/Vienna:20240603T120000

SUMMARY:BBE Entrance Exam

LOCATION:TC.3.12 Seminarraum

URL;VALUE=URI:https://karrierekit.welthandelsplatz.at/oeh-kurse/bbe-entrance-exam

END:VEVENT
BEGIN:VEVENT
UID:b80f1aeb-6fcd-4b6b-ab0d-e2c6a04b6882@welthandelsplatz.at

SEQUENCE:0
STATUS:CONFIRMED
TRANSP:OPAQUE
CREATED:20260419T142023

DTSTAMP:20260419T142023

DTSTART;TZID=Europe/Vienna:20240607T100000

DTEND;TZID=Europe/Vienna:20240607T120000

SUMMARY:BBE Entrance Exam

LOCATION:TC.3.07 Seminarraum

URL;VALUE=URI:https://karrierekit.welthandelsplatz.at/oeh-kurse/bbe-entrance-exam

END:VEVENT
BEGIN:VEVENT
UID:4e580b38-0ca6-48e4-8078-42a6dee4fe28@welthandelsplatz.at

SEQUENCE:0
STATUS:CONFIRMED
TRANSP:OPAQUE
CREATED:20260419T142023

DTSTAMP:20260419T142023

DTSTART;TZID=Europe/Vienna:20240610T100000

DTEND;TZID=Europe/Vienna:20240610T120000

SUMMARY:BBE Entrance Exam

LOCATION:TC.3.10 Seminarraum

URL;VALUE=URI:https://karrierekit.welthandelsplatz.at/oeh-kurse/bbe-entrance-exam

END:VEVENT
END:VCALENDAR